BEGIN_USGS_DOQ_HEADER *
QUADRANGLE_NAME "BAGDAD SW" 3.45 or 7.5-min. name*
QUADRANT SW quadrant indicator if cell size = 3.75-minutes*
WEST_LONGITUDE -116 0 0.000 signed deg min sec SDDD MM SS.SSS*
EAST_LONGITUDE -115 56 15.000 signed deg min sec SDDD MM SS.SSS*
NORTH_LATITUDE 34 33 45.000 signed deg min sec SDDD MM SS.SSS*
SOUTH_LATITUDE 34 30 0.000 signed deg min sec SDDD MM SS.SSS*
PRODUCTION_DATE 1997 2 28 yyyy mm dd*
RASTER_ORDER LEFT_RIGHT/TOP_BOTTOM video display order*
BAND_ORGANIZATION "SINGLE FILE" single file or BSQ, or BIL or BIP*
BAND_CONTENT BLACK&WHITE black&white or red green blue*
BITS_PER_PIXEL 8 radiometric resolution*
SAMPLES_AND_LINES 6540 7620 number of columns and rows*
HORIZONTAL_DATUM NAD83 primary horizontal datum*
HORIZONTAL_COORDINATE_SYSTEM UTM *
COORDINATE_ZONE 11 coordinate system zone number*
HORIZONTAL_UNITS METERS coordinate system units*
HORIZONTAL_RESOLUTION 1.00 pixel horiz. ground sample distance*
SECONDARY_HORIZONTAL_DATUM NAD27 secondary horizontal datum*
XY_ORIGIN 591330.000 3825360.000 coord. of upper left pixel pri. datum*
SECONDARY_XY_ORIGIN 591408.928 3825165.440 coord upper left pixel sec datum*
NATION US nation code*
STATE CA state fip code*
NW_QUAD_CORNER_XY 591736.353 3824981.910 XY coords. of pri. NW quad corner*
NE_QUAD_CORNER_XY 597470.104 3825040.462 XY coords. of pri. NE quad corner*
SE_QUAD_CORNER_XY 597542.969 3818109.555 XY coords. of pri. SE quad corner*
SW_QUAD_CORNER_XY 591804.930 3818051.052 XY coords. of pri. SW quad corner*
SECONDARY_NW_QUAD_XY 591738.450 3824785.693 XY coords. - sec. NW quad cor.*
SECONDARY_NE_QUAD_XY 597472.332 3824844.247 XY coords. - sec. NE quad cor.*
SECONDARY_SE_QUAD_XY 597545.195 3817913.534 XY coords. - sec. SE quad cor.*
SECONDARY_SW_QUAD_XY 591807.025 3817855.029 XY coords. - sec. SW quad cor.*
RMSE_XY 2.00 doq horiz. accuracy*
IMAGE_SOURCE "BLACK AND WHITE FILM" b&w, cir, natural color, other*
SOURCE_IMAGE_ID "NAPP 6825 122" source image id*
SOURCE_IMAGE_DATE 1995 10 3 source image date as yyyy mm dd*
SOURCE_DEM_DATE 1997 2 28 source dem date yyyy mm dd*
AGENCY "WESTERN MAPPING CENTER (WMC)" oversight agency*
PRODUCER "Analytical Surveys" producer/contractor*
PRODUCTION_SYSTEM "ORBIT OR_RECTIFY V.5.2" production system*
STANDARD_VERSION 1996 12 version of DOQ standard*
METADATA_DATE 1997 11 3 date created or changed, yyyy mm dd*
DATA_FILE_SIZE 49841340 data set size in bytes*
BYTE_COUNT 6540 header byte count* * * * * * * * * * * * * * * * * * * * * * * * * * * * * * * * * * * * * * *
END_USGS_HEADER *
