BEGIN_USGS_DOQ_HEADER *
QUADRANGLE_NAME "VAN WINKLE WASH" 3.45 or 7.5-min. name*
QUADRANT SE quadrant indicator if cell size = 3.75-minutes*
WEST_LONGITUDE -115 33 45.000 signed deg min sec SDDD MM SS.SSS*
EAST_LONGITUDE -115 30 0.000 signed deg min sec SDDD MM SS.SSS*
NORTH_LATITUDE 34 41 15.000 signed deg min sec SDDD MM SS.SSS*
SOUTH_LATITUDE 34 37 30.000 signed deg min sec SDDD MM SS.SSS*
PRODUCTION_DATE 1997 3 11 yyyy mm dd*
RASTER_ORDER LEFT_RIGHT/TOP_BOTTOM video display order*
BAND_ORGANIZATION "SINGLE FILE" single file or BSQ, or BIL or BIP*
BAND_CONTENT BLACK&WHITE black&white or red green blue*
BITS_PER_PIXEL 8 radiometric resolution*
SAMPLES_AND_LINES 6540 7650 number of columns and rows*
HORIZONTAL_DATUM NAD83 primary horizontal datum*
HORIZONTAL_COORDINATE_SYSTEM UTM *
COORDINATE_ZONE 11 coordinate system zone number*
HORIZONTAL_UNITS METERS coordinate system units*
HORIZONTAL_RESOLUTION 1.00 pixel horiz. ground sample distance*
SECONDARY_HORIZONTAL_DATUM NAD27 secondary horizontal datum*
XY_ORIGIN 631290.000 3839730.000 coord. of upper left pixel pri. datum*
SECONDARY_XY_ORIGIN 631368.533 3839535.121 coord upper left pixel sec datum*
NATION US nation code*
STATE CA state fip code*
NW_QUAD_CORNER_XY 631675.908 3839329.061 XY coords. of pri. NW quad corner*
NE_QUAD_CORNER_XY 637401.402 3839412.606 XY coords. of pri. NE quad corner*
SE_QUAD_CORNER_XY 637504.617 3832481.140 XY coords. of pri. SE quad corner*
SW_QUAD_CORNER_XY 631774.819 3832397.663 XY coords. of pri. SW quad corner*
SECONDARY_NW_QUAD_XY 631678.928 3839132.469 XY coords. - sec. NW quad cor.*
SECONDARY_NE_QUAD_XY 637404.554 3839216.017 XY coords. - sec. NE quad cor.*
SECONDARY_SE_QUAD_XY 637507.766 3832284.743 XY coords. - sec. SE quad cor.*
SECONDARY_SW_QUAD_XY 631777.837 3832201.265 XY coords. - sec. SW quad cor.*
RMSE_XY 1.60 doq horiz. accuracy*
IMAGE_SOURCE "BLACK AND WHITE FILM" b&w, cir, natural color, other*
SOURCE_IMAGE_ID "NAPP 6824 080" source image id*
SOURCE_IMAGE_DATE 1995 10 2 source image date as yyyy mm dd*
SOURCE_DEM_DATE 1997 3 11 source dem date yyyy mm dd*
AGENCY "WESTERN MAPPING CENTER (WMC)" oversight agency*
PRODUCER "Analytical Surveys" producer/contractor*
PRODUCTION_SYSTEM "ORBIT OR_RECTIFY V.5.2" production system*
STANDARD_VERSION 1996 12 version of DOQ standard*
METADATA_DATE 1997 10 29 date created or changed, yyyy mm dd*
DATA_FILE_SIZE 50037540 data set size in bytes*
BYTE_COUNT 6540 header byte count* * * * * * * * * * * * * * * * * * * * * * * * * * * * * * * * * * * * * * *
END_USGS_HEADER *
