BEGIN_USGS_DOQ_HEADER *
QUADRANGLE_NAME "BROWN BUTTES" 3.45 or 7.5-min. name*
QUADRANT NW quadrant indicator if cell size = 3.75-minutes*
WEST_LONGITUDE -115 45 0.000 signed deg min sec SDDD MM SS.SSS*
EAST_LONGITUDE -115 41 15.000 signed deg min sec SDDD MM SS.SSS*
NORTH_LATITUDE 34 45 0.000 signed deg min sec SDDD MM SS.SSS*
SOUTH_LATITUDE 34 41 15.000 signed deg min sec SDDD MM SS.SSS*
PRODUCTION_DATE 1997 2 28 yyyy mm dd*
RASTER_ORDER LEFT_RIGHT/TOP_BOTTOM video display order*
BAND_ORGANIZATION "SINGLE FILE" single file or BSQ, or BIL or BIP*
BAND_CONTENT BLACK&WHITE black&white or red green blue*
BITS_PER_PIXEL 8 radiometric resolution*
SAMPLES_AND_LINES 6540 7650 number of columns and rows*
HORIZONTAL_DATUM NAD83 primary horizontal datum*
HORIZONTAL_COORDINATE_SYSTEM UTM *
COORDINATE_ZONE 11 coordinate system zone number*
HORIZONTAL_UNITS METERS coordinate system units*
HORIZONTAL_RESOLUTION 1.00 pixel horiz. ground sample distance*
SECONDARY_HORIZONTAL_DATUM NAD27 secondary horizontal datum*
XY_ORIGIN 614010.000 3846420.000 coord. of upper left pixel pri. datum*
SECONDARY_XY_ORIGIN 614088.679 3846225.295 coord upper left pixel sec datum*
NATION US nation code*
STATE CA state fip code*
NW_QUAD_CORNER_XY 614413.610 3846031.043 XY coords. of pri. NW quad corner*
NE_QUAD_CORNER_XY 620134.635 3846103.977 XY coords. of pri. NE quad corner*
SE_QUAD_CORNER_XY 620225.084 3839172.641 XY coords. of pri. SE quad corner*
SW_QUAD_CORNER_XY 614499.749 3839099.767 XY coords. of pri. SW quad corner*
SECONDARY_NW_QUAD_XY 614416.238 3845834.254 XY coords. - sec. NW quad cor.*
SECONDARY_NE_QUAD_XY 620137.395 3845907.190 XY coords. - sec. NE quad cor.*
SECONDARY_SE_QUAD_XY 620227.841 3838976.046 XY coords. - sec. SE quad cor.*
SECONDARY_SW_QUAD_XY 614502.375 3838903.171 XY coords. - sec. SW quad cor.*
RMSE_XY 1.10 doq horiz. accuracy*
IMAGE_SOURCE "BLACK AND WHITE FILM" b&w, cir, natural color, other*
SOURCE_IMAGE_ID "NAPP 6825 032" source image id*
SOURCE_IMAGE_DATE 1995 10 3 source image date as yyyy mm dd*
SOURCE_DEM_DATE 1997 2 28 source dem date yyyy mm dd*
AGENCY "WESTERN MAPPING CENTER (WMC)" oversight agency*
PRODUCER "Analytical Surveys" producer/contractor*
PRODUCTION_SYSTEM "ORBIT OR_RECTIFY V.5.2" production system*
STANDARD_VERSION 1996 12 version of DOQ standard*
METADATA_DATE 1997 11 3 date created or changed, yyyy mm dd*
DATA_FILE_SIZE 50037540 data set size in bytes*
BYTE_COUNT 6540 header byte count* * * * * * * * * * * * * * * * * * * * * * * * * * * * * * * * * * * * * * *
END_USGS_HEADER *
