BEGIN_USGS_DOQ_HEADER *
QUADRANGLE_NAME "SIBERIA" 3.45 or 7.5-min. name*
QUADRANT NE quadrant indicator if cell size = 3.75-minutes*
WEST_LONGITUDE -115 56 15.000 signed deg min sec SDDD MM SS.SSS*
EAST_LONGITUDE -115 52 30.000 signed deg min sec SDDD MM SS.SSS*
NORTH_LATITUDE 34 45 0.000 signed deg min sec SDDD MM SS.SSS*
SOUTH_LATITUDE 34 41 15.000 signed deg min sec SDDD MM SS.SSS*
PRODUCTION_DATE 1997 2 6 yyyy mm dd*
RASTER_ORDER LEFT_RIGHT/TOP_BOTTOM video display order*
BAND_ORGANIZATION "SINGLE FILE" single file or BSQ, or BIL or BIP*
BAND_CONTENT BLACK&WHITE black&white or red green blue*
BITS_PER_PIXEL 8 radiometric resolution*
SAMPLES_AND_LINES 6510 7620 number of columns and rows*
HORIZONTAL_DATUM NAD83 primary horizontal datum*
HORIZONTAL_COORDINATE_SYSTEM UTM *
COORDINATE_ZONE 11 coordinate system zone number*
HORIZONTAL_UNITS METERS coordinate system units*
HORIZONTAL_RESOLUTION 1.00 pixel horiz. ground sample distance*
SECONDARY_HORIZONTAL_DATUM NAD27 secondary horizontal datum*
XY_ORIGIN 596850.000 3846210.000 coord. of upper left pixel pri. datum*
SECONDARY_XY_ORIGIN 596928.873 3846015.254 coord upper left pixel sec datum*
NATION US nation code*
STATE CA state fip code*
NW_QUAD_CORNER_XY 597250.812 3845833.596 XY coords. of pri. NW quad corner*
NE_QUAD_CORNER_XY 602971.700 3845895.853 XY coords. of pri. NE quad corner*
SE_QUAD_CORNER_XY 603049.222 3838964.688 XY coords. of pri. SE quad corner*
SW_QUAD_CORNER_XY 597324.025 3838902.483 XY coords. of pri. SW quad corner*
SECONDARY_NW_QUAD_XY 597253.046 3845636.803 XY coords. - sec. NW quad cor.*
SECONDARY_NE_QUAD_XY 602974.066 3845699.061 XY coords. - sec. NE quad cor.*
SECONDARY_SE_QUAD_XY 603051.586 3838768.088 XY coords. - sec. SE quad cor.*
SECONDARY_SW_QUAD_XY 597326.258 3838705.882 XY coords. - sec. SW quad cor.*
RMSE_XY 2.50 doq horiz. accuracy*
IMAGE_SOURCE "BLACK AND WHITE FILM" b&w, cir, natural color, other*
SOURCE_IMAGE_ID "NAPP 6804 036" source image id*
SOURCE_IMAGE_DATE 1994 5 21 source image date as yyyy mm dd*
SOURCE_DEM_DATE 1997 2 6 source dem date yyyy mm dd*
AGENCY "WESTERN MAPPING CENTER (WMC)" oversight agency*
PRODUCER "Analytical Surveys" producer/contractor*
PRODUCTION_SYSTEM "ORBIT OR_RECTIFY V.5.2" production system*
STANDARD_VERSION 1996 12 version of DOQ standard*
METADATA_DATE 1997 10 31 date created or changed, yyyy mm dd*
DATA_FILE_SIZE 49612710 data set size in bytes*
BYTE_COUNT 6510 header byte count* * * * * * * * * * * * * * * * * * * * * * * * * * * * * * * * * * * * * * *
END_USGS_HEADER *
