BEGIN_USGS_DOQ_HEADER *
QUADRANGLE_NAME "BLIND HILLS" 3.45 or 7.5-min. name*
QUADRANT NE quadrant indicator if cell size = 3.75-minutes*
WEST_LONGITUDE -115 18 45.000 signed deg min sec SDDD MM SS.SSS*
EAST_LONGITUDE -115 15 0.000 signed deg min sec SDDD MM SS.SSS*
NORTH_LATITUDE 34 52 30.000 signed deg min sec SDDD MM SS.SSS*
SOUTH_LATITUDE 34 48 45.000 signed deg min sec SDDD MM SS.SSS*
PRODUCTION_DATE 1997 3 4 yyyy mm dd*
RASTER_ORDER LEFT_RIGHT/TOP_BOTTOM video display order*
BAND_ORGANIZATION "SINGLE FILE" single file or BSQ, or BIL or BIP*
BAND_CONTENT BLACK&WHITE black&white or red green blue*
BITS_PER_PIXEL 8 radiometric resolution*
SAMPLES_AND_LINES 6540 7650 number of columns and rows*
HORIZONTAL_DATUM NAD83 primary horizontal datum*
HORIZONTAL_COORDINATE_SYSTEM UTM *
COORDINATE_ZONE 11 coordinate system zone number*
HORIZONTAL_UNITS METERS coordinate system units*
HORIZONTAL_RESOLUTION 1.00 pixel horiz. ground sample distance*
SECONDARY_HORIZONTAL_DATUM NAD27 secondary horizontal datum*
XY_ORIGIN 653850.000 3860880.000 coord. of upper left pixel pri. datum*
SECONDARY_XY_ORIGIN 653928.226 3860684.649 coord upper left pixel sec datum*
NATION US nation code*
STATE CA state fip code*
NW_QUAD_CORNER_XY 654228.757 3860480.053 XY coords. of pri. NW quad corner*
NE_QUAD_CORNER_XY 659941.542 3860578.071 XY coords. of pri. NE quad corner*
SE_QUAD_CORNER_XY 660062.547 3853646.105 XY coords. of pri. SE quad corner*
SW_QUAD_CORNER_XY 654345.437 3853548.167 XY coords. of pri. SW quad corner*
SECONDARY_NW_QUAD_XY 654232.313 3860282.897 XY coords. - sec. NW quad cor.*
SECONDARY_NE_QUAD_XY 659945.230 3860380.917 XY coords. - sec. NE quad cor.*
SECONDARY_SE_QUAD_XY 660066.231 3853449.142 XY coords. - sec. SE quad cor.*
SECONDARY_SW_QUAD_XY 654348.989 3853351.201 XY coords. - sec. SW quad cor.*
RMSE_XY 1.20 doq horiz. accuracy*
IMAGE_SOURCE "BLACK AND WHITE FILM" b&w, cir, natural color, other*
SOURCE_IMAGE_ID "NAPP 6820 012" source image id*
SOURCE_IMAGE_DATE 1995 9 28 source image date as yyyy mm dd*
SOURCE_DEM_DATE 1997 3 4 source dem date yyyy mm dd*
AGENCY "WESTERN MAPPING CENTER (WMC)" oversight agency*
PRODUCER "Analytical Surveys" producer/contractor*
PRODUCTION_SYSTEM "ORBIT OR_RECTIFY V.5.2" production system*
STANDARD_VERSION 1996 12 version of DOQ standard*
METADATA_DATE 1997 11 3 date created or changed, yyyy mm dd*
DATA_FILE_SIZE 50037540 data set size in bytes*
BYTE_COUNT 6540 header byte count* * * * * * * * * * * * * * * * * * * * * * * * * * * * * * * * * * * * * * *
END_USGS_HEADER *
