BEGIN_USGS_DOQ_HEADER *
QUADRANGLE_NAME "WEST OF BLIND HILLS" 3.45 or 7.5-min. name*
QUADRANT SW quadrant indicator if cell size = 3.75-minutes*
WEST_LONGITUDE -115 30 0.000 signed deg min sec SDDD MM SS.SSS*
EAST_LONGITUDE -115 26 15.000 signed deg min sec SDDD MM SS.SSS*
NORTH_LATITUDE 34 48 45.000 signed deg min sec SDDD MM SS.SSS*
SOUTH_LATITUDE 34 45 0.000 signed deg min sec SDDD MM SS.SSS*
PRODUCTION_DATE 1997 3 13 yyyy mm dd*
RASTER_ORDER LEFT_RIGHT/TOP_BOTTOM video display order*
BAND_ORGANIZATION "SINGLE FILE" single file or BSQ, or BIL or BIP*
BAND_CONTENT BLACK&WHITE black&white or red green blue*
BITS_PER_PIXEL 8 radiometric resolution*
SAMPLES_AND_LINES 6510 7650 number of columns and rows*
HORIZONTAL_DATUM NAD83 primary horizontal datum*
HORIZONTAL_COORDINATE_SYSTEM UTM *
COORDINATE_ZONE 11 coordinate system zone number*
HORIZONTAL_UNITS METERS coordinate system units*
HORIZONTAL_RESOLUTION 1.00 pixel horiz. ground sample distance*
SECONDARY_HORIZONTAL_DATUM NAD27 secondary horizontal datum*
XY_ORIGIN 636810.000 3853680.000 coord. of upper left pixel pri. datum*
SECONDARY_XY_ORIGIN 636888.442 3853484.875 coord upper left pixel sec datum*
NATION US nation code*
STATE CA state fip code*
NW_QUAD_CORNER_XY 637194.482 3853275.737 XY coords. of pri. NW quad corner*
NE_QUAD_CORNER_XY 642911.407 3853362.983 XY coords. of pri. NE quad corner*
SE_QUAD_CORNER_XY 643019.266 3846431.313 XY coords. of pri. SE quad corner*
SW_QUAD_CORNER_XY 637298.024 3846344.139 XY coords. of pri. SW quad corner*
SECONDARY_NW_QUAD_XY 637197.640 3853078.765 XY coords. - sec. NW quad cor.*
SECONDARY_NE_QUAD_XY 642914.696 3853166.013 XY coords. - sec. NE quad cor.*
SECONDARY_SE_QUAD_XY 643022.552 3846234.534 XY coords. - sec. SE quad cor.*
SECONDARY_SW_QUAD_XY 637301.179 3846147.357 XY coords. - sec. SW quad cor.*
RMSE_XY 2.10 doq horiz. accuracy*
IMAGE_SOURCE "BLACK AND WHITE FILM" b&w, cir, natural color, other*
SOURCE_IMAGE_ID "NAPP 6823 197" source image id*
SOURCE_IMAGE_DATE 1995 9 28 source image date as yyyy mm dd*
SOURCE_DEM_DATE 1997 3 13 source dem date yyyy mm dd*
AGENCY "WESTERN MAPPING CENTER (WMC)" oversight agency*
PRODUCER "Analytical Surveys" producer/contractor*
PRODUCTION_SYSTEM "ORBIT OR_RECTIFY V.5.2" production system*
STANDARD_VERSION 1996 12 version of DOQ standard*
METADATA_DATE 1997 11 4 date created or changed, yyyy mm dd*
DATA_FILE_SIZE 49808010 data set size in bytes*
BYTE_COUNT 6510 header byte count* * * * * * * * * * * * * * * * * * * * * * * * * * * * * * * * * * * * * * *
END_USGS_HEADER *
