BEGIN_USGS_DOQ_HEADER *
QUADRANGLE_NAME "BUDWEISER WASH" 3.45 or 7.5-min. name*
QUADRANT SE quadrant indicator if cell size = 3.75-minutes*
WEST_LONGITUDE -115 48 45.000 signed deg min sec SDDD MM SS.SSS*
EAST_LONGITUDE -115 45 0.000 signed deg min sec SDDD MM SS.SSS*
NORTH_LATITUDE 34 48 45.000 signed deg min sec SDDD MM SS.SSS*
SOUTH_LATITUDE 34 45 0.000 signed deg min sec SDDD MM SS.SSS*
PRODUCTION_DATE 1997 2 27 yyyy mm dd*
RASTER_ORDER LEFT_RIGHT/TOP_BOTTOM video display order*
BAND_ORGANIZATION "SINGLE FILE" single file or BSQ, or BIL or BIP*
BAND_CONTENT BLACK&WHITE black&white or red green blue*
BITS_PER_PIXEL 8 radiometric resolution*
SAMPLES_AND_LINES 6510 7650 number of columns and rows*
HORIZONTAL_DATUM NAD83 primary horizontal datum*
HORIZONTAL_COORDINATE_SYSTEM UTM *
COORDINATE_ZONE 11 coordinate system zone number*
HORIZONTAL_UNITS METERS coordinate system units*
HORIZONTAL_RESOLUTION 1.00 pixel horiz. ground sample distance*
SECONDARY_HORIZONTAL_DATUM NAD27 secondary horizontal datum*
XY_ORIGIN 608220.000 3853290.000 coord. of upper left pixel pri. datum*
SECONDARY_XY_ORIGIN 608298.722 3853095.159 coord upper left pixel sec datum*
NATION US nation code*
STATE CA state fip code*
NW_QUAD_CORNER_XY 608610.672 3852892.955 XY coords. of pri. NW quad corner*
NE_QUAD_CORNER_XY 614327.334 3852962.386 XY coords. of pri. NE quad corner*
SE_QUAD_CORNER_XY 614413.610 3846031.043 XY coords. of pri. SE quad corner*
SW_QUAD_CORNER_XY 608692.632 3845961.668 XY coords. of pri. SW quad corner*
SECONDARY_NW_QUAD_XY 608613.172 3852695.974 XY coords. - sec. NW quad cor.*
SECONDARY_NE_QUAD_XY 614329.965 3852765.407 XY coords. - sec. NE quad cor.*
SECONDARY_SE_QUAD_XY 614416.238 3845834.254 XY coords. - sec. SE quad cor.*
SECONDARY_SW_QUAD_XY 608695.130 3845764.878 XY coords. - sec. SW quad cor.*
RMSE_XY 1.20 doq horiz. accuracy*
IMAGE_SOURCE "BLACK AND WHITE FILM" b&w, cir, natural color, other*
SOURCE_IMAGE_ID "NAPP 6824 126" source image id*
SOURCE_IMAGE_DATE 1995 10 2 source image date as yyyy mm dd*
SOURCE_DEM_DATE 1997 2 27 source dem date yyyy mm dd*
AGENCY "WESTERN MAPPING CENTER (WMC)" oversight agency*
PRODUCER "Analytical Surveys" producer/contractor*
PRODUCTION_SYSTEM "ORBIT OR_RECTIFY V.5.2" production system*
STANDARD_VERSION 1996 12 version of DOQ standard*
METADATA_DATE 1997 11 4 date created or changed, yyyy mm dd*
DATA_FILE_SIZE 49808010 data set size in bytes*
BYTE_COUNT 6510 header byte count* * * * * * * * * * * * * * * * * * * * * * * * * * * * * * * * * * * * * * *
END_USGS_HEADER *
