BEGIN_USGS_DOQ_HEADER *
QUADRANGLE_NAME "COLTON WELL" 3.45 or 7.5-min. name*
QUADRANT SE quadrant indicator if cell size = 3.75-minutes*
WEST_LONGITUDE -115 26 15.000 signed deg min sec SDDD MM SS.SSS*
EAST_LONGITUDE -115 22 30.000 signed deg min sec SDDD MM SS.SSS*
NORTH_LATITUDE 34 56 15.000 signed deg min sec SDDD MM SS.SSS*
SOUTH_LATITUDE 34 52 30.000 signed deg min sec SDDD MM SS.SSS*
PRODUCTION_DATE 1997 3 13 yyyy mm dd*
RASTER_ORDER LEFT_RIGHT/TOP_BOTTOM video display order*
BAND_ORGANIZATION "SINGLE FILE" single file or BSQ, or BIL or BIP*
BAND_CONTENT BLACK&WHITE black&white or red green blue*
BITS_PER_PIXEL 8 radiometric resolution*
SAMPLES_AND_LINES 6540 7650 number of columns and rows*
HORIZONTAL_DATUM NAD83 primary horizontal datum*
HORIZONTAL_COORDINATE_SYSTEM UTM *
COORDINATE_ZONE 11 coordinate system zone number*
HORIZONTAL_UNITS METERS coordinate system units*
HORIZONTAL_RESOLUTION 1.00 pixel horiz. ground sample distance*
SECONDARY_HORIZONTAL_DATUM NAD27 secondary horizontal datum*
XY_ORIGIN 642300.000 3867630.000 coord. of upper left pixel pri. datum*
SECONDARY_XY_ORIGIN 642378.361 3867434.664 coord upper left pixel sec datum*
NATION US nation code*
STATE CA state fip code*
NW_QUAD_CORNER_XY 642695.177 3867226.522 XY coords. of pri. NW quad corner*
NE_QUAD_CORNER_XY 648403.505 3867317.478 XY coords. of pri. NE quad corner*
SE_QUAD_CORNER_XY 648516.036 3860385.603 XY coords. of pri. SE quad corner*
SW_QUAD_CORNER_XY 642803.377 3860294.719 XY coords. of pri. SW quad corner*
SECONDARY_NW_QUAD_XY 642698.472 3867029.172 XY coords. - sec. NW quad cor.*
SECONDARY_NE_QUAD_XY 648406.932 3867120.130 XY coords. - sec. NE quad cor.*
SECONDARY_SE_QUAD_XY 648519.460 3860188.445 XY coords. - sec. SE quad cor.*
SECONDARY_SW_QUAD_XY 642806.669 3860097.559 XY coords. - sec. SW quad cor.*
RMSE_XY 1.30 doq horiz. accuracy*
IMAGE_SOURCE "BLACK AND WHITE FILM" b&w, cir, natural color, other*
SOURCE_IMAGE_ID "NAPP 6823 186" source image id*
SOURCE_IMAGE_DATE 1995 9 28 source image date as yyyy mm dd*
SOURCE_DEM_DATE 1997 3 13 source dem date yyyy mm dd*
AGENCY "WESTERN MAPPING CENTER (WMC)" oversight agency*
PRODUCER "Analytical Surveys" producer/contractor*
PRODUCTION_SYSTEM "ORBIT OR_RECTIFY V.5.2" production system*
STANDARD_VERSION 1996 12 version of DOQ standard*
METADATA_DATE 1997 11 4 date created or changed, yyyy mm dd*
DATA_FILE_SIZE 50037540 data set size in bytes*
BYTE_COUNT 6540 header byte count* * * * * * * * * * * * * * * * * * * * * * * * * * * * * * * * * * * * * * *
END_USGS_HEADER *
