BEGIN_USGS_DOQ_HEADER *
QUADRANGLE_NAME "WEST OF GLASGOW" 3.45 or 7.5-min. name*
QUADRANT NW quadrant indicator if cell size = 3.75-minutes*
WEST_LONGITUDE -116 0 0.000 signed deg min sec SDDD MM SS.SSS*
EAST_LONGITUDE -115 56 15.000 signed deg min sec SDDD MM SS.SSS*
NORTH_LATITUDE 35 0 0.000 signed deg min sec SDDD MM SS.SSS*
SOUTH_LATITUDE 34 56 15.000 signed deg min sec SDDD MM SS.SSS*
PRODUCTION_DATE 1997 2 27 yyyy mm dd*
RASTER_ORDER LEFT_RIGHT/TOP_BOTTOM video display order*
BAND_ORGANIZATION "SINGLE FILE" single file or BSQ, or BIL or BIP*
BAND_CONTENT BLACK&WHITE black&white or red green blue*
BITS_PER_PIXEL 8 radiometric resolution*
SAMPLES_AND_LINES 6510 7620 number of columns and rows*
HORIZONTAL_DATUM NAD83 primary horizontal datum*
HORIZONTAL_COORDINATE_SYSTEM UTM *
COORDINATE_ZONE 11 coordinate system zone number*
HORIZONTAL_UNITS METERS coordinate system units*
HORIZONTAL_RESOLUTION 1.00 pixel horiz. ground sample distance*
SECONDARY_HORIZONTAL_DATUM NAD27 secondary horizontal datum*
XY_ORIGIN 590850.000 3873870.000 coord. of upper left pixel pri. datum*
SECONDARY_XY_ORIGIN 590928.926 3873674.835 coord upper left pixel sec datum*
NATION US nation code*
STATE CA state fip code*
NW_QUAD_CORNER_XY 591253.253 3873499.851 XY coords. of pri. NW quad corner*
NE_QUAD_CORNER_XY 596956.800 3873558.739 XY coords. of pri. NE quad corner*
SE_QUAD_CORNER_XY 597030.477 3866627.349 XY coords. of pri. SE quad corner*
SW_QUAD_CORNER_XY 591322.594 3866568.509 XY coords. of pri. SW quad corner*
SECONDARY_NW_QUAD_XY 591255.363 3873302.297 XY coords. - sec. NW quad cor.*
SECONDARY_NE_QUAD_XY 596959.043 3873361.186 XY coords. - sec. NE quad cor.*
SECONDARY_SE_QUAD_XY 597032.717 3866429.986 XY coords. - sec. SE quad cor.*
SECONDARY_SW_QUAD_XY 591324.703 3866371.144 XY coords. - sec. SW quad cor.*
RMSE_XY 2.10 doq horiz. accuracy*
IMAGE_SOURCE "BLACK AND WHITE FILM" b&w, cir, natural color, other*
SOURCE_IMAGE_ID "NAPP 6826 038" source image id*
SOURCE_IMAGE_DATE 1995 10 4 source image date as yyyy mm dd*
SOURCE_DEM_DATE 1997 2 27 source dem date yyyy mm dd*
AGENCY "WESTERN MAPPING CENTER (WMC)" oversight agency*
PRODUCER "Analytical Surveys" producer/contractor*
PRODUCTION_SYSTEM "ORBIT OR_RECTIFY V.5.2" production system*
STANDARD_VERSION 1996 12 version of DOQ standard*
METADATA_DATE 1997 11 4 date created or changed, yyyy mm dd*
DATA_FILE_SIZE 49612710 data set size in bytes*
BYTE_COUNT 6510 header byte count* * * * * * * * * * * * * * * * * * * * * * * * * * * * * * * * * * * * * * *
END_USGS_HEADER *
