BEGIN_USGS_DOQ_HEADER *
QUADRANGLE_NAME "QUEEN MOUNTAIN" *
QUADRANT SW *
NORTH_LATITUDE 34 03 45.000 *
WEST_LONGITUDE -116 07 30.000 *
SOUTH_LATITUDE 34 00 00.000 *
EAST_LONGITUDE -116 03 45.000 *
PRODUCTION_DATE 1998 03 25 *
RASTER_ORDER LEFT_RIGHT/TOP_BOTTOM *
BAND_ORGANIZATION BIP *
BAND_CONTENT RED *
BAND_CONTENT GREEN *
BAND_CONTENT BLUE *
BITS_PER_PIXEL 8 *
SAMPLES_AND_LINES 6540 7620 *
HORIZONTAL_DATUM NAD83 *
HORIZONTAL_COORDINATE_SYSTEM UTM *
COORDINATE_ZONE 11 *
HORIZONTAL_UNITS METERS *
HORIZONTAL_RESOLUTION 1.000 *
SECONDARY_HORIZONTAL_DATUM NAD27 *
XY_ORIGIN 580350.000 3769800.000 *
SECONDARY_XY_ORIGIN 580429.118 3769605.416 *
NATION US *
STATE CA *
NW_QUAD_CORNER_XY 580746.305 3769431.240 *
NE_QUAD_CORNER_XY 586514.085 3769482.342 *
SE_QUAD_CORNER_XY 586577.552 3762552.081 *
SW_QUAD_CORNER_XY 580805.540 3762501.025 *
SECONDARY_NW_QUAD_XY 580748.126 3769236.597 *
SECONDARY_NE_QUAD_XY 586516.036 3769287.700 *
SECONDARY_SE_QUAD_XY 586579.502 3762357.639 *
SECONDARY_SW_QUAD_XY 580807.359 3762306.582 *
RMSE_XY 2.021 *
IMAGE_SOURCE "CIR FILM" *
SOURCE_IMAGE_ID "NAPP 9568 62" *
SOURCE_IMAGE_DATE 1996 06 21 *
SOURCE_DEM_DATE 1972 01 01 *
AGENCY "WESTERN MAPPING CENTER (WMC)" *
PRODUCER "ANALYTICAL SURVEYS INC." *
PRODUCTION_SYSTEM "ORBIT OR_RECTIFY V.5.2" *
STANDARD_VERSION 1996 12 *
METADATA_DATE 1998 03 27 *
DATA_FILE_SIZE 149524020 *
BYTE_COUNT 19620 * * * * * * * * * * * * * * * * * * * * * * * * * * * * * * * * * * * * * * * * * * * * * * * * * * * * * * * * * * * * * * * * * * * * * * * * * * * * * * * * * * * * * * * * * * * * * * * * * * * * * * * * * * * * * * * * * * * * * * * * * * * * * * * * * * * * * * * * * * * * * * * * * * * * * * * * * * * * * * * * * * * * * * * * * * * * * * * * * * * * * * * * * * * * * * * * * * * * * * * * *
END_USGS_HEADER *
