BEGIN_USGS_DOQ_HEADER *
QUADRANGLE_NAME "INDIAN COVE" 3.75 or 7.5-min. name*
QUADRANT NW quadrant indicator if cell size = 3.75-minutes*
WEST_LONGITUDE -116 15 0.000 signed deg min sec SDDD MM SS.SSS*
EAST_LONGITUDE -116 11 15.000 signed deg min sec SDDD MM SS.SSS*
NORTH_LATITUDE 34 7 30.000 signed deg min sec SDDD MM SS.SSS*
SOUTH_LATITUDE 34 3 45.000 signed deg min sec SDDD MM SS.SSS*
PRODUCTION_DATE 2004 1 6 yyyy mm dd*
RASTER_ORDER LEFT_RIGHT/TOP_BOTTOM video display order*
BAND_ORGANIZATION BIP single file or BSQ, or BIL or BIP*
BAND_CONTENT RED black&white or red green blue*
BAND_CONTENT GREEN black&white or red green blue*
BAND_CONTENT BLUE black&white or red green blue*
BITS_PER_PIXEL 8 radiometric resolution*
SAMPLES_AND_LINES 6500 7577 number of columns and rows*
HORIZONTAL_DATUM NAD83 primary horizontal datum*
HORIZONTAL_COORDINATE_SYSTEM UTM *
COORDINATE_ZONE 11 coordinate system zone number*
HORIZONTAL_UNITS METERS coordinate system units*
HORIZONTAL_RESOLUTION 1.00 pixel horiz. ground sample distance*
SECONDARY_HORIZONTAL_DATUM NAD27 secondary horizontal datum*
XY_ORIGIN 568781.000 3776615.000 coord. of upper left pixel pri. datum*
SECONDARY_XY_ORIGIN 568861.000 3776421.000 coord upper left pixel sec datum*
NATION US nation code*
STATE CA state fip code*
NW_QUAD_CORNER_XY 569159.996 3776269.817 XY coords. of pri. NW quad corner*
NE_QUAD_CORNER_XY 574923.468 3776313.907 XY coords. of pri. NE quad corner*
SE_QUAD_CORNER_XY 574978.561 3769383.664 XY coords. of pri. SE quad corner*
SW_QUAD_CORNER_XY 569210.850 3769339.612 XY coords. of pri. SW quad corner*
SECONDARY_NW_QUAD_XY 569161.559 3776074.972 XY coords. - sec. NW quad cor.*
SECONDARY_NE_QUAD_XY 574925.161 3776119.063 XY coords. - sec. NE quad cor.*
SECONDARY_SE_QUAD_XY 574980.252 3769189.020 XY coords. - sec. SE quad cor.*
SECONDARY_SW_QUAD_XY 569212.411 3769144.967 XY coords. - sec. SW quad cor.*
RMSE_XY 1.80 doq horiz. accuracy*
IMAGE_SOURCE "COLOR INFRA-RED FILM" b&w, cir, natural color, other*
SOURCE_IMAGE_ID "NAPP 12497 199" source image id*
SOURCE_IMAGE_DATE 2002 6 1 source image date as yyyy mm dd*
SOURCE_DEM_DATE 1995 0 0 source dem date yyyy mm dd*
AGENCY "WESTERN MAPPING CENTER (WMC)" oversight agency*
PRODUCER "WESTERN MAPPING CENTER (WMC)" *
PRODUCTION_SYSTEM "DV2.6.5 3/02 OV2.7 3/02" production system*
STANDARD_VERSION 1996 12 version of DOQ standard*
METADATA_DATE 2004 1 6 date created or changed, yyyy mm dd*
DATA_FILE_SIZE 147771000 data set size in bytes*
BYTE_COUNT 19500 header byte count* * * * * * * * * * * * * * * * * * * * * * * * * * * * * * * * * * * * * * * * * * * * * * * * * * * * * * * * * * * * * * * * * * * * * * * * * * * * * * * * * * * * * * * * * * * * * * * * * * * * * * * * * * * * * * * * * * * * * * * * * * * * * * * * * * * * * * * * * * * * * * * * * * * * * * * * * * * * * * * * * * * * * * * * * * * * * * * * * * * * * * * * * * * * * * * * * * * * * * *
END_USGS_HEADER *
