BEGIN_USGS_DOQ_HEADER *
QUADRANGLE_NAME "INDIAN COVE" *
QUADRANT SW *
NORTH_LATITUDE 34 03 45.000 *
WEST_LONGITUDE -116 15 00.000 *
SOUTH_LATITUDE 34 00 00.000 *
EAST_LONGITUDE -116 11 15.000 *
PRODUCTION_DATE 1998 03 25 *
RASTER_ORDER LEFT_RIGHT/TOP_BOTTOM *
BAND_ORGANIZATION BIP *
BAND_CONTENT RED *
BAND_CONTENT GREEN *
BAND_CONTENT BLUE *
BITS_PER_PIXEL 8 *
SAMPLES_AND_LINES 6510 7620 *
HORIZONTAL_DATUM NAD83 *
HORIZONTAL_COORDINATE_SYSTEM UTM *
COORDINATE_ZONE 11 *
HORIZONTAL_UNITS METERS *
HORIZONTAL_RESOLUTION 1.000 *
SECONDARY_HORIZONTAL_DATUM NAD27 *
XY_ORIGIN 568830.000 3769710.000 *
SECONDARY_XY_ORIGIN 568909.241 3769515.098 *
NATION US *
STATE CA *
NW_QUAD_CORNER_XY 569210.850 3769339.612 *
NE_QUAD_CORNER_XY 574978.561 3769383.664 *
SE_QUAD_CORNER_XY 575033.564 3762453.490 *
SW_QUAD_CORNER_XY 569261.621 3762409.477 *
SECONDARY_NW_QUAD_XY 569212.411 3769144.967 *
SECONDARY_NE_QUAD_XY 574980.252 3769189.019 *
SECONDARY_SE_QUAD_XY 575035.253 3762259.046 *
SECONDARY_SW_QUAD_XY 569263.181 3762215.032 *
RMSE_XY 2.618 *
IMAGE_SOURCE "CIR FILM" *
SOURCE_IMAGE_ID "NAPP 9571 124" *
SOURCE_IMAGE_DATE 1996 09 26 *
SOURCE_DEM_DATE 1972 01 01 *
AGENCY "WESTERN MAPPING CENTER (WMC)" *
PRODUCER "ANALYTICAL SURVEYS INC." *
PRODUCTION_SYSTEM "ORBIT OR_RECTIFY V.5.2" *
STANDARD_VERSION 1996 12 *
METADATA_DATE 1998 03 26 *
DATA_FILE_SIZE 148838130 *
BYTE_COUNT 19530 * * * * * * * * * * * * * * * * * * * * * * * * * * * * * * * * * * * * * * * * * * * * * * * * * * * * * * * * * * * * * * * * * * * * * * * * * * * * * * * * * * * * * * * * * * * * * * * * * * * * * * * * * * * * * * * * * * * * * * * * * * * * * * * * * * * * * * * * * * * * * * * * * * * * * * * * * * * * * * * * * * * * * * * * * * * * * * * * * * * * * * * * * * * * * * * * * * * * * * * *
END_USGS_HEADER *
