BEGIN_USGS_DOQ_HEADER *
QUADRANGLE_NAME "JOSHUA TREE SOUTH" *
QUADRANT NW *
NORTH_LATITUDE 34 07 30.000 *
WEST_LONGITUDE -116 22 30.000 *
SOUTH_LATITUDE 34 03 45.000 *
EAST_LONGITUDE -116 18 45.000 *
PRODUCTION_DATE 1998 03 21 *
RASTER_ORDER LEFT_RIGHT/TOP_BOTTOM *
BAND_ORGANIZATION BIP *
BAND_CONTENT RED *
BAND_CONTENT GREEN *
BAND_CONTENT BLUE *
BITS_PER_PIXEL 8 *
SAMPLES_AND_LINES 6510 7590 *
HORIZONTAL_DATUM NAD83 *
HORIZONTAL_COORDINATE_SYSTEM UTM *
COORDINATE_ZONE 11 *
HORIZONTAL_UNITS METERS *
HORIZONTAL_RESOLUTION 1.000 *
SECONDARY_HORIZONTAL_DATUM NAD27 *
XY_ORIGIN 557250.000 3776550.000 *
SECONDARY_XY_ORIGIN 557329.235 3776354.881 *
NATION US *
STATE CA *
NW_QUAD_CORNER_XY 557633.142 3776192.220 *
NE_QUAD_CORNER_XY 563396.555 3776229.254 *
SE_QUAD_CORNER_XY 563443.171 3769299.086 *
SW_QUAD_CORNER_XY 557675.519 3769262.083 *
SECONDARY_NW_QUAD_XY 557634.445 3775997.373 *
SECONDARY_NE_QUAD_XY 563397.988 3776034.408 *
SECONDARY_SE_QUAD_XY 563444.602 3769104.439 *
SECONDARY_SW_QUAD_XY 557676.820 3769067.436 *
RMSE_XY 1.132 *
IMAGE_SOURCE "CIR FILM" *
SOURCE_IMAGE_ID "NAPP 9552 164" *
SOURCE_IMAGE_DATE 1996 06 04 *
SOURCE_DEM_DATE 1972 01 01 *
AGENCY "WESTERN MAPPING CENTER (WMC)" *
PRODUCER "ANALYTICAL SURVEYS INC." *
PRODUCTION_SYSTEM "ORBIT OR_RECTIFY V.5.2" *
STANDARD_VERSION 1996 12 *
METADATA_DATE 1998 03 21 *
DATA_FILE_SIZE 148252230 *
BYTE_COUNT 19530 * * * * * * * * * * * * * * * * * * * * * * * * * * * * * * * * * * * * * * * * * * * * * * * * * * * * * * * * * * * * * * * * * * * * * * * * * * * * * * * * * * * * * * * * * * * * * * * * * * * * * * * * * * * * * * * * * * * * * * * * * * * * * * * * * * * * * * * * * * * * * * * * * * * * * * * * * * * * * * * * * * * * * * * * * * * * * * * * * * * * * * * * * * * * * * * * * * * * * * * *
END_USGS_HEADER *
