BEGIN_USGS_DOQ_HEADER *
QUADRANGLE_NAME "JOSHUA TREE SOUTH" *
QUADRANT SW *
NORTH_LATITUDE 34 03 45.000 *
WEST_LONGITUDE -116 22 30.000 *
SOUTH_LATITUDE 34 00 00.000 *
EAST_LONGITUDE -116 18 45.000 *
PRODUCTION_DATE 1998 03 23 *
RASTER_ORDER LEFT_RIGHT/TOP_BOTTOM *
BAND_ORGANIZATION BIP *
BAND_CONTENT RED *
BAND_CONTENT GREEN *
BAND_CONTENT BLUE *
BITS_PER_PIXEL 8 *
SAMPLES_AND_LINES 6510 7590 *
HORIZONTAL_DATUM NAD83 *
HORIZONTAL_COORDINATE_SYSTEM UTM *
COORDINATE_ZONE 11 *
HORIZONTAL_UNITS METERS *
HORIZONTAL_RESOLUTION 1.000 *
SECONDARY_HORIZONTAL_DATUM NAD27 *
XY_ORIGIN 557280.000 3769620.000 *
SECONDARY_XY_ORIGIN 557359.181 3769424.886 *
NATION US *
STATE CA *
NW_QUAD_CORNER_XY 557675.519 3769262.083 *
NE_QUAD_CORNER_XY 563443.171 3769299.086 *
SE_QUAD_CORNER_XY 563489.710 3762368.986 *
SW_QUAD_CORNER_XY 557717.828 3762332.017 *
SECONDARY_NW_QUAD_XY 557676.820 3769067.436 *
SECONDARY_NE_QUAD_XY 563444.602 3769104.439 *
SECONDARY_SE_QUAD_XY 563491.140 3762174.540 *
SECONDARY_SW_QUAD_XY 557719.127 3762137.570 *
RMSE_XY 2.542 *
IMAGE_SOURCE "CIR FILM" *
SOURCE_IMAGE_ID "NAPP 9552 162" *
SOURCE_IMAGE_DATE 1996 06 04 *
SOURCE_DEM_DATE 1972 01 01 *
AGENCY "WESTERN MAPPING CENTER (WMC)" *
PRODUCER "ANALYTICAL SURVEYS INC." *
PRODUCTION_SYSTEM "ORBIT OR_RECTIFY V.5.2" *
STANDARD_VERSION 1996 12 *
METADATA_DATE 1998 03 23 *
DATA_FILE_SIZE 148252230 *
BYTE_COUNT 19530 * * * * * * * * * * * * * * * * * * * * * * * * * * * * * * * * * * * * * * * * * * * * * * * * * * * * * * * * * * * * * * * * * * * * * * * * * * * * * * * * * * * * * * * * * * * * * * * * * * * * * * * * * * * * * * * * * * * * * * * * * * * * * * * * * * * * * * * * * * * * * * * * * * * * * * * * * * * * * * * * * * * * * * * * * * * * * * * * * * * * * * * * * * * * * * * * * * * * * * * *
END_USGS_HEADER *
