BEGIN_USGS_DOQ_HEADER *
QUADRANGLE_NAME "YUCCA VALLEY SOUTH" *
QUADRANT NE *
NORTH_LATITUDE 34 07 30.000 *
WEST_LONGITUDE -116 26 15.000 *
SOUTH_LATITUDE 34 03 45.000 *
EAST_LONGITUDE -116 22 30.000 *
PRODUCTION_DATE 1998 03 20 *
RASTER_ORDER LEFT_RIGHT/TOP_BOTTOM *
BAND_ORGANIZATION BIP *
BAND_CONTENT RED *
BAND_CONTENT GREEN *
BAND_CONTENT BLUE *
BITS_PER_PIXEL 8 *
SAMPLES_AND_LINES 6510 7620 *
HORIZONTAL_DATUM NAD83 *
HORIZONTAL_COORDINATE_SYSTEM UTM *
COORDINATE_ZONE 11 *
HORIZONTAL_UNITS METERS *
HORIZONTAL_RESOLUTION 1.000 *
SECONDARY_HORIZONTAL_DATUM NAD27 *
XY_ORIGIN 551490.000 3776520.000 *
SECONDARY_XY_ORIGIN 551569.229 3776324.765 *
NATION US *
STATE CA *
NW_QUAD_CORNER_XY 551869.755 3776158.713 *
NE_QUAD_CORNER_XY 557633.142 3776192.220 *
SE_QUAD_CORNER_XY 557675.519 3769262.083 *
SW_QUAD_CORNER_XY 551907.894 3769228.606 *
SECONDARY_NW_QUAD_XY 551870.927 3775963.865 *
SECONDARY_NE_QUAD_XY 557634.445 3775997.373 *
SECONDARY_SE_QUAD_XY 557676.820 3769067.436 *
SECONDARY_SW_QUAD_XY 551909.065 3769033.958 *
RMSE_XY 1.668 *
IMAGE_SOURCE "CIR FILM" *
SOURCE_IMAGE_ID "NAPP 9552 169" *
SOURCE_IMAGE_DATE 1996 06 04 *
SOURCE_DEM_DATE 1978 01 01 *
AGENCY "WESTERN MAPPING CENTER (WMC)" *
PRODUCER "ANALYTICAL SURVEYS INC." *
PRODUCTION_SYSTEM "ORBIT OR_RECTIFY V.5.2" *
STANDARD_VERSION 1996 12 *
METADATA_DATE 1998 03 26 *
DATA_FILE_SIZE 148838130 *
BYTE_COUNT 19530 * * * * * * * * * * * * * * * * * * * * * * * * * * * * * * * * * * * * * * * * * * * * * * * * * * * * * * * * * * * * * * * * * * * * * * * * * * * * * * * * * * * * * * * * * * * * * * * * * * * * * * * * * * * * * * * * * * * * * * * * * * * * * * * * * * * * * * * * * * * * * * * * * * * * * * * * * * * * * * * * * * * * * * * * * * * * * * * * * * * * * * * * * * * * * * * * * * * * * * * *
END_USGS_HEADER *
