BEGIN_USGS_DOQ_HEADER *
QUADRANGLE_NAME "YUCCA VALLEY SOUTH" 3.75 or 7.5-min. name*
QUADRANT NE quadrant indicator if cell size = 3.75-minutes*
WEST_LONGITUDE -116 26 15.000 signed deg min sec SDDD MM SS.SSS*
EAST_LONGITUDE -116 22 30.000 signed deg min sec SDDD MM SS.SSS*
NORTH_LATITUDE 34 7 30.000 signed deg min sec SDDD MM SS.SSS*
SOUTH_LATITUDE 34 3 45.000 signed deg min sec SDDD MM SS.SSS*
PRODUCTION_DATE 2004 3 4 yyyy mm dd*
RASTER_ORDER LEFT_RIGHT/TOP_BOTTOM video display order*
BAND_ORGANIZATION BIP single file or BSQ, or BIL or BIP*
BAND_CONTENT RED black&white or red green blue*
BAND_CONTENT GREEN black&white or red green blue*
BAND_CONTENT BLUE black&white or red green blue*
BITS_PER_PIXEL 8 radiometric resolution*
SAMPLES_AND_LINES 6487 7566 number of columns and rows*
HORIZONTAL_DATUM NAD83 primary horizontal datum*
HORIZONTAL_COORDINATE_SYSTEM UTM *
COORDINATE_ZONE 11 coordinate system zone number*
HORIZONTAL_UNITS METERS coordinate system units*
HORIZONTAL_RESOLUTION 1.00 pixel horiz. ground sample distance*
SECONDARY_HORIZONTAL_DATUM NAD27 secondary horizontal datum*
XY_ORIGIN 551491.000 3776493.000 coord. of upper left pixel pri. datum*
SECONDARY_XY_ORIGIN 551570.235 3776297.764 coord upper left pixel sec datum*
NATION US nation code*
STATE CA state fip code*
NW_QUAD_CORNER_XY 551869.755 3776158.713 XY coords. of pri. NW quad corner*
NE_QUAD_CORNER_XY 557633.142 3776192.220 XY coords. of pri. NE quad corner*
SE_QUAD_CORNER_XY 557675.519 3769262.083 XY coords. of pri. SE quad corner*
SW_QUAD_CORNER_XY 551907.894 3769228.606 XY coords. of pri. SW quad corner*
SECONDARY_NW_QUAD_XY 551870.927 3775963.865 XY coords. - sec. NW quad cor.*
SECONDARY_NE_QUAD_XY 557634.445 3775997.373 XY coords. - sec. NE quad cor.*
SECONDARY_SE_QUAD_XY 557676.820 3769067.436 XY coords. - sec. SE quad cor.*
SECONDARY_SW_QUAD_XY 551909.065 3769033.958 XY coords. - sec. SW quad cor.*
RMSE_XY 3.90 doq horiz. accuracy*
IMAGE_SOURCE "COLOR INFRA-RED FILM" b&w, cir, natural color, other*
SOURCE_IMAGE_ID "NAPP 12498 100" source image id*
SOURCE_IMAGE_DATE 2002 6 1 source image date as yyyy mm dd*
SOURCE_DEM_DATE 1975 1 1 source dem date yyyy mm dd*
AGENCY "WESTERN MAPPING CENTER (WMC)" oversight agency*
PRODUCER "WESTERN MAPPING CENTER (WMC)" *
PRODUCTION_SYSTEM "DV2.6.5 3/02 OV2.7 3/02" production system*
STANDARD_VERSION 1996 12 version of DOQ standard*
METADATA_DATE 2004 3 4 date created or changed, yyyy mm dd*
DATA_FILE_SIZE 147261387 data set size in bytes*
BYTE_COUNT 19461 header byte count* * * * * * * * * * * * * * * * * * * * * * * * * * * * * * * * * * * * * * * * * * * * * * * * * * * * * * * * * * * * * * * * * * * * * * * * * * * * * * * * * * * * * * * * * * * * * * * * * * * * * * * * * * * * * * * * * * * * * * * * * * * * * * * * * * * * * * * * * * * * * * * * * * * * * * * * * * * * * * * * * * * * * * * * * * * * * * * * * * * * * * * * * * * * * * * * * * * * * * *
END_USGS_HEADER *
