BEGIN_USGS_DOQ_HEADER *
QUADRANGLE_NAME "YUCCA VALLEY SOUTH" *
QUADRANT SW *
NORTH_LATITUDE 34 03 45.000 *
WEST_LONGITUDE -116 30 00.000 *
SOUTH_LATITUDE 34 00 00.000 *
EAST_LONGITUDE -116 26 15.000 *
PRODUCTION_DATE 1998 03 20 *
RASTER_ORDER LEFT_RIGHT/TOP_BOTTOM *
BAND_ORGANIZATION BIP *
BAND_CONTENT RED *
BAND_CONTENT GREEN *
BAND_CONTENT BLUE *
BITS_PER_PIXEL 8 *
SAMPLES_AND_LINES 6510 7590 *
HORIZONTAL_DATUM NAD83 *
HORIZONTAL_COORDINATE_SYSTEM UTM *
COORDINATE_ZONE 11 *
HORIZONTAL_UNITS METERS *
HORIZONTAL_RESOLUTION 1.000 *
SECONDARY_HORIZONTAL_DATUM NAD27 *
XY_ORIGIN 545760.000 3769530.000 *
SECONDARY_XY_ORIGIN 545839.129 3769334.666 *
NATION US *
STATE CA *
NW_QUAD_CORNER_XY 546140.292 3769198.652 *
NE_QUAD_CORNER_XY 551907.894 3769228.606 *
SE_QUAD_CORNER_XY 551945.971 3762298.568 *
SW_QUAD_CORNER_XY 546174.137 3762268.641 *
SECONDARY_NW_QUAD_XY 546141.332 3769004.003 *
SECONDARY_NE_QUAD_XY 551909.065 3769033.958 *
SECONDARY_SE_QUAD_XY 551947.141 3762104.121 *
SECONDARY_SW_QUAD_XY 546175.177 3762074.193 *
RMSE_XY 2.844 *
IMAGE_SOURCE "CIR FILM" *
SOURCE_IMAGE_ID "NAPP 9553 58" *
SOURCE_IMAGE_DATE 1996 06 04 *
SOURCE_DEM_DATE 1978 01 01 *
AGENCY "WESTERN MAPPING CENTER (WMC)" *
PRODUCER "ANALYTICAL SURVEYS INC." *
PRODUCTION_SYSTEM "ORBIT OR_RECTIFY V.5.2" *
STANDARD_VERSION 1996 12 *
METADATA_DATE 1998 03 20 *
DATA_FILE_SIZE 148252230 *
BYTE_COUNT 19530 * * * * * * * * * * * * * * * * * * * * * * * * * * * * * * * * * * * * * * * * * * * * * * * * * * * * * * * * * * * * * * * * * * * * * * * * * * * * * * * * * * * * * * * * * * * * * * * * * * * * * * * * * * * * * * * * * * * * * * * * * * * * * * * * * * * * * * * * * * * * * * * * * * * * * * * * * * * * * * * * * * * * * * * * * * * * * * * * * * * * * * * * * * * * * * * * * * * * * * * *
END_USGS_HEADER *
