BEGIN_USGS_DOQ_HEADER *
QUADRANGLE_NAME "MORONGO VALLEY" 3.75 or 7.5-min. name*
QUADRANT NW quadrant indicator if cell size = 3.75-minutes*
WEST_LONGITUDE -116 37 30.000 signed deg min sec SDDD MM SS.SSS*
EAST_LONGITUDE -116 33 45.000 signed deg min sec SDDD MM SS.SSS*
NORTH_LATITUDE 34 7 30.000 signed deg min sec SDDD MM SS.SSS*
SOUTH_LATITUDE 34 3 45.000 signed deg min sec SDDD MM SS.SSS*
PRODUCTION_DATE 2003 10 9 yyyy mm dd*
RASTER_ORDER LEFT_RIGHT/TOP_BOTTOM video display order*
BAND_ORGANIZATION BIP single file or BSQ, or BIL or BIP*
BAND_CONTENT RED black&white or red green blue*
BAND_CONTENT GREEN black&white or red green blue*
BAND_CONTENT BLUE black&white or red green blue*
BITS_PER_PIXEL 8 radiometric resolution*
SAMPLES_AND_LINES 6475 7557 number of columns and rows*
HORIZONTAL_DATUM NAD83 primary horizontal datum*
HORIZONTAL_COORDINATE_SYSTEM UTM *
COORDINATE_ZONE 11 coordinate system zone number*
HORIZONTAL_UNITS METERS coordinate system units*
HORIZONTAL_RESOLUTION 1.00 pixel horiz. ground sample distance*
SECONDARY_HORIZONTAL_DATUM NAD27 secondary horizontal datum*
XY_ORIGIN 534200.000 3776404.000 coord. of upper left pixel pri. datum*
SECONDARY_XY_ORIGIN 534279.235 3776208.417 coord upper left pixel sec datum*
NATION US nation code*
STATE CA state fip code*
NW_QUAD_CORNER_XY 534579.721 3776079.355 XY coords. of pri. NW quad corner*
NE_QUAD_CORNER_XY 540343.047 3776102.280 XY coords. of pri. NE quad corner*
SE_QUAD_CORNER_XY 540372.710 3769172.223 XY coords. of pri. SE quad corner*
SW_QUAD_CORNER_XY 534605.147 3769149.318 XY coords. of pri. SW quad corner*
SECONDARY_NW_QUAD_XY 534580.503 3775884.506 XY coords. - sec. NW quad cor.*
SECONDARY_NE_QUAD_XY 540343.959 3775907.431 XY coords. - sec. NE quad cor.*
SECONDARY_SE_QUAD_XY 540373.621 3768977.574 XY coords. - sec. SE quad cor.*
SECONDARY_SW_QUAD_XY 534605.927 3768954.668 XY coords. - sec. SW quad cor.*
RMSE_XY 3.90 doq horiz. accuracy*
IMAGE_SOURCE "COLOR INFRA-RED FILM" b&w, cir, natural color, other*
SOURCE_IMAGE_ID "NAPP 12494 175" source image id*
SOURCE_IMAGE_DATE 2002 6 3 source image date as yyyy mm dd*
SOURCE_DEM_DATE 2003 10 9 source dem date yyyy mm dd*
AGENCY "WESTERN MAPPING CENTER (WMC)" oversight agency*
PRODUCER "WESTERN MAPPING CENTER (WMC)" *
PRODUCTION_SYSTEM "DV2.6.5 3/02 OV2.7 3/02" production system*
STANDARD_VERSION 1996 12 version of DOQ standard*
METADATA_DATE 2003 10 9 date created or changed, yyyy mm dd*
DATA_FILE_SIZE 146814150 data set size in bytes*
BYTE_COUNT 19425 header byte count* * * * * * * * * * * * * * * * * * * * * * * * * * * * * * * * * * * * * * * * * * * * * * * * * * * * * * * * * * * * * * * * * * * * * * * * * * * * * * * * * * * * * * * * * * * * * * * * * * * * * * * * * * * * * * * * * * * * * * * * * * * * * * * * * * * * * * * * * * * * * * * * * * * * * * * * * * * * * * * * * * * * * * * * * * * * * * * * * * * * * * * * * * * * * * * * * * * * * *
END_USGS_HEADER *
