BEGIN_USGS_DOQ_HEADER *
QUADRANGLE_NAME "MORONGO VALLEY" *
QUADRANT SE *
NORTH_LATITUDE 34 03 45.000 *
WEST_LONGITUDE -116 33 45.000 *
SOUTH_LATITUDE 34 00 00.000 *
EAST_LONGITUDE -116 30 00.000 *
PRODUCTION_DATE 1998 03 19 *
RASTER_ORDER LEFT_RIGHT/TOP_BOTTOM *
BAND_ORGANIZATION BIP *
BAND_CONTENT RED *
BAND_CONTENT GREEN *
BAND_CONTENT BLUE *
BITS_PER_PIXEL 8 *
SAMPLES_AND_LINES 6510 7560 *
HORIZONTAL_DATUM NAD83 *
HORIZONTAL_COORDINATE_SYSTEM UTM *
COORDINATE_ZONE 11 *
HORIZONTAL_UNITS METERS *
HORIZONTAL_RESOLUTION 1.000 *
SECONDARY_HORIZONTAL_DATUM NAD27 *
XY_ORIGIN 539970.000 3769500.000 *
SECONDARY_XY_ORIGIN 540049.104 3769304.566 *
NATION US *
STATE CA *
NW_QUAD_CORNER_XY 540372.710 3769172.223 *
NE_QUAD_CORNER_XY 546140.292 3769198.652 *
SE_QUAD_CORNER_XY 546174.137 3762268.641 *
SW_QUAD_CORNER_XY 540402.325 3762242.235 *
SECONDARY_NW_QUAD_XY 540373.621 3768977.573 *
SECONDARY_NE_QUAD_XY 546141.332 3769004.003 *
SECONDARY_SE_QUAD_XY 546175.177 3762074.193 *
SECONDARY_SW_QUAD_XY 540403.235 3762047.787 *
RMSE_XY 2.022 *
IMAGE_SOURCE "CIR FILM" *
SOURCE_IMAGE_ID "NAPP 9553 67" *
SOURCE_IMAGE_DATE 1996 06 04 *
SOURCE_IMAGE_ID "NAPP 9572 85" *
SOURCE_IMAGE_DATE 1996 09 27 *
SOURCE_DEM_DATE 1997 01 01 *
AGENCY "WESTERN MAPPING CENTER (WMC)" *
PRODUCER "ANALYTICAL SURVEYS INC." *
PRODUCTION_SYSTEM "ORBIT OR_RECTIFY V.5.2" *
STANDARD_VERSION 1996 12 *
METADATA_DATE 1998 03 20 *
DATA_FILE_SIZE 147666330 *
BYTE_COUNT 19530 * * * * * * * * * * * * * * * * * * * * * * * * * * * * * * * * * * * * * * * * * * * * * * * * * * * * * * * * * * * * * * * * * * * * * * * * * * * * * * * * * * * * * * * * * * * * * * * * * * * * * * * * * * * * * * * * * * * * * * * * * * * * * * * * * * * * * * * * * * * * * * * * * * * * * * * * * * * * * * * * * * * * * * * * * * * * * * * * * * * * * * * * * * * * * * * * * * * * * *
END_USGS_HEADER *
