BEGIN_USGS_DOQ_HEADER *
QUADRANGLE_NAME "MORONGO VALLEY" *
QUADRANT SW *
NORTH_LATITUDE 34 03 45.000 *
WEST_LONGITUDE -116 37 30.000 *
SOUTH_LATITUDE 34 00 00.000 *
EAST_LONGITUDE -116 33 45.000 *
PRODUCTION_DATE 1998 03 19 *
RASTER_ORDER LEFT_RIGHT/TOP_BOTTOM *
BAND_ORGANIZATION BIP *
BAND_CONTENT RED *
BAND_CONTENT GREEN *
BAND_CONTENT BLUE *
BITS_PER_PIXEL 8 *
SAMPLES_AND_LINES 6510 7590 *
HORIZONTAL_DATUM NAD83 *
HORIZONTAL_COORDINATE_SYSTEM UTM *
COORDINATE_ZONE 11 *
HORIZONTAL_UNITS METERS *
HORIZONTAL_RESOLUTION 1.000 *
SECONDARY_HORIZONTAL_DATUM NAD27 *
XY_ORIGIN 534210.000 3769500.000 *
SECONDARY_XY_ORIGIN 534289.081 3769304.463 *
NATION US *
STATE CA *
NW_QUAD_CORNER_XY 534605.147 3769149.318 *
NE_QUAD_CORNER_XY 540372.710 3769172.223 *
SE_QUAD_CORNER_XY 540402.325 3762242.235 *
SW_QUAD_CORNER_XY 534630.530 3762219.350 *
SECONDARY_NW_QUAD_XY 534605.927 3768954.668 *
SECONDARY_NE_QUAD_XY 540373.621 3768977.573 *
SECONDARY_SE_QUAD_XY 540403.235 3762047.787 *
SECONDARY_SW_QUAD_XY 534631.310 3762024.901 *
RMSE_XY 1.845 *
IMAGE_SOURCE "CIR FILM" *
SOURCE_IMAGE_ID "NAPP 9553 166" *
SOURCE_IMAGE_DATE 1996 06 04 *
SOURCE_DEM_DATE 1997 01 01 *
AGENCY "WESTERN MAPPING CENTER (WMC)" *
PRODUCER "ANALYTICAL SURVEYS INC." *
PRODUCTION_SYSTEM "ORBIT OR_RECTIFY V.5.2" *
STANDARD_VERSION 1996 12 *
METADATA_DATE 1998 03 19 *
DATA_FILE_SIZE 148252230 *
BYTE_COUNT 19530 * * * * * * * * * * * * * * * * * * * * * * * * * * * * * * * * * * * * * * * * * * * * * * * * * * * * * * * * * * * * * * * * * * * * * * * * * * * * * * * * * * * * * * * * * * * * * * * * * * * * * * * * * * * * * * * * * * * * * * * * * * * * * * * * * * * * * * * * * * * * * * * * * * * * * * * * * * * * * * * * * * * * * * * * * * * * * * * * * * * * * * * * * * * * * * * * * * * * * * * *
END_USGS_HEADER *
