BEGIN_USGS_DOQ_HEADER *
QUADRANGLE_NAME "CATCLAW FLAT" *
QUADRANT NW *
WEST_LONGITUDE -116 45 0.000 *
EAST_LONGITUDE -116 41 15.000 *
NORTH_LATITUDE 34 7 30.000 *
SOUTH_LATITUDE 34 3 45.000 *
PRODUCTION_DATE 2003 11 11 *
RASTER_ORDER LEFT_RIGHT/TOP_BOTTOM *
BAND_ORGANIZATION BIP *
BAND_CONTENT RED *
BAND_CONTENT GREEN *
BAND_CONTENT BLUE *
BITS_PER_PIXEL 8 *
SAMPLES_AND_LINES 6463 7547 *
HORIZONTAL_DATUM NAD83 *
HORIZONTAL_COORDINATE_SYSTEM UTM *
COORDINATE_ZONE 11 *
HORIZONTAL_UNITS METERS *
HORIZONTAL_RESOLUTION 1.0 *
SECONDARY_HORIZONTAL_DATUM NAD27 *
XY_ORIGIN 522674.400 3776360.800 *
SECONDARY_XY_ORIGIN 522753.651 3776164.988 *
NATION US *
STATE CA *
NW_QUAD_CORNER_XY 523053.113 3776044.086 *
NE_QUAD_CORNER_XY 528816.411 3776059.957 *
SE_QUAD_CORNER_XY 528837.598 3769129.936 *
SW_QUAD_CORNER_XY 523070.063 3769114.079 *
SECONDARY_NW_QUAD_XY 523053.638 3775849.235 *
SECONDARY_NE_QUAD_XY 528817.064 3775865.106 *
SECONDARY_SE_QUAD_XY 528838.250 3768935.286 *
SECONDARY_SW_QUAD_XY 523070.588 3768919.428 *
RMSE_XY 2.00 *
IMAGE_SOURCE "CIR FILM" *
SOURCE_IMAGE_ID "NAPP 12517 25" *
SOURCE_IMAGE_DATE 2003 5 27 *
SOURCE_IMAGE_ID "NAPP 12517 26" *
SOURCE_IMAGE_DATE 2003 5 27 *
SOURCE_IMAGE_ID "NAPP 12517 24" *
SOURCE_IMAGE_DATE 2003 5 27 *
SOURCE_IMAGE_ID "NAPP 12484 50" *
SOURCE_IMAGE_DATE 2002 5 29 *
SOURCE_IMAGE_ID "NAPP 12484 49" *
SOURCE_IMAGE_DATE 2002 5 29 *
SOURCE_IMAGE_ID "NAPP 12484 48" *
SOURCE_IMAGE_DATE 2002 5 29 *
SOURCE_IMAGE_ID "NAPP 12479 92" *
SOURCE_IMAGE_DATE 2002 5 28 *
SOURCE_IMAGE_ID "NAPP 12479 93" *
SOURCE_IMAGE_DATE 2002 5 28 *
SOURCE_IMAGE_ID "NAPP 12479 94" *
SOURCE_IMAGE_DATE 2002 5 28 *
SOURCE_DEM_DATE 2003 1 1 *
AGENCY "WESTERN MAPPING CENTER (WMC)" *
PRODUCER "USDA FS GEOSPATIAL SERVICE AND TECHNOLOGY CENTER" *
PRODUCTION_SYSTEM "ORBIT OR_RECTIFY V.5.2" *
STANDARD_VERSION 1996 12 *
METADATA_DATE 2003 11 3 *
DATA_FILE_SIZE 146348172 *
BYTE_COUNT 19389 * * * * * * * * * * * * * * * * * * * * * * * * * * * * * * * * * * * * * * * * * * * * * * * * * * * * * * * * * * * * * * * * * * * * * * * * * * * * * * * * * * * * * * * * * * * * * * * * * * * * * * * * * * * * * * * * * * * * * * * * * * * * * * * * * * * * * * * * * * * * * * * * * * * * * * * * * * * * * * * * * * * * * * * * * * * * * * * * * * * * * *
END_USGS_HEADER *
