BEGIN_USGS_DOQ_HEADER *
QUADRANGLE_NAME "SAN GORGONIO MOUNTAIN" *
QUADRANT NE *
WEST_LONGITUDE -116 48 45.000 *
EAST_LONGITUDE -116 45 0.000 *
NORTH_LATITUDE 34 7 30.000 *
SOUTH_LATITUDE 34 3 45.000 *
PRODUCTION_DATE 2003 11 11 *
RASTER_ORDER LEFT_RIGHT/TOP_BOTTOM *
BAND_ORGANIZATION BIP *
BAND_CONTENT RED *
BAND_CONTENT GREEN *
BAND_CONTENT BLUE *
BITS_PER_PIXEL 8 *
SAMPLES_AND_LINES 6459 7543 *
HORIZONTAL_DATUM NAD83 *
HORIZONTAL_COORDINATE_SYSTEM UTM *
COORDINATE_ZONE 11 *
HORIZONTAL_UNITS METERS *
HORIZONTAL_RESOLUTION 1.0 *
SECONDARY_HORIZONTAL_DATUM NAD27 *
XY_ORIGIN 516910.840 3776345.040 *
SECONDARY_XY_ORIGIN 516990.236 3776149.166 *
NATION US *
STATE CA *
NW_QUAD_CORNER_XY 517289.826 3776031.742 *
NE_QUAD_CORNER_XY 523053.113 3776044.086 *
SE_QUAD_CORNER_XY 523070.063 3769114.079 *
SW_QUAD_CORNER_XY 517302.538 3769101.746 *
SECONDARY_NW_QUAD_XY 517290.221 3775836.891 *
SECONDARY_NE_QUAD_XY 523053.638 3775849.235 *
SECONDARY_SE_QUAD_XY 523070.588 3768919.428 *
SECONDARY_SW_QUAD_XY 517302.933 3768907.095 *
RMSE_XY 2.00 *
IMAGE_SOURCE "CIR FILM" *
SOURCE_IMAGE_ID "NAPP 12484 49" *
SOURCE_IMAGE_DATE 2002 5 29 *
SOURCE_IMAGE_ID "NAPP 12484 50" *
SOURCE_IMAGE_DATE 2002 5 29 *
SOURCE_IMAGE_ID "NAPP 12484 48" *
SOURCE_IMAGE_DATE 2002 5 29 *
SOURCE_IMAGE_ID "NAPP 12484 55" *
SOURCE_IMAGE_DATE 2002 5 29 *
SOURCE_IMAGE_ID "NAPP 12484 56" *
SOURCE_IMAGE_DATE 2002 5 29 *
SOURCE_IMAGE_ID "NAPP 12484 57" *
SOURCE_IMAGE_DATE 2002 5 29 *
SOURCE_IMAGE_ID "NAPP 12517 26" *
SOURCE_IMAGE_DATE 2003 5 27 *
SOURCE_IMAGE_ID "NAPP 12517 25" *
SOURCE_IMAGE_DATE 2003 5 27 *
SOURCE_IMAGE_ID "NAPP 12517 24" *
SOURCE_IMAGE_DATE 2003 5 27 *
SOURCE_DEM_DATE 2003 1 1 *
AGENCY "WESTERN MAPPING CENTER (WMC)" *
PRODUCER "USDA FS GEOSPATIAL SERVICE AND TECHNOLOGY CENTER" *
PRODUCTION_SYSTEM "ORBIT OR_RECTIFY V.5.2" *
STANDARD_VERSION 1996 12 *
METADATA_DATE 2003 11 3 *
DATA_FILE_SIZE 146180088 *
BYTE_COUNT 19377 * * * * * * * * * * * * * * * * * * * * * * * * * * * * * * * * * * * * * * * * * * * * * * * * * * * * * * * * * * * * * * * * * * * * * * * * * * * * * * * * * * * * * * * * * * * * * * * * * * * * * * * * * * * * * * * * * * * * * * * * * * * * * * * * * * * * * * * * * * * * * * * * * * * * * * * * * * * * * * * * * * * * * * * * * * * * * * * * * * * * * *
END_USGS_HEADER *
