BEGIN_USGS_DOQ_HEADER *
QUADRANGLE_NAME "FOREST FALLS" *
QUADRANT NE *
WEST_LONGITUDE -116 56 15.000 *
EAST_LONGITUDE -116 52 30.000 *
NORTH_LATITUDE 34 7 30.000 *
SOUTH_LATITUDE 34 3 45.000 *
PRODUCTION_DATE 2003 11 11 *
RASTER_ORDER LEFT_RIGHT/TOP_BOTTOM *
BAND_ORGANIZATION BIP *
BAND_CONTENT RED *
BAND_CONTENT GREEN *
BAND_CONTENT BLUE *
BITS_PER_PIXEL 8 *
SAMPLES_AND_LINES 6451 7536 *
HORIZONTAL_DATUM NAD83 *
HORIZONTAL_COORDINATE_SYSTEM UTM *
COORDINATE_ZONE 11 *
HORIZONTAL_UNITS METERS *
HORIZONTAL_RESOLUTION 1.0 *
SECONDARY_HORIZONTAL_DATUM NAD27 *
XY_ORIGIN 505383.740 3776324.010 *
SECONDARY_XY_ORIGIN 505463.425 3776128.011 *
NATION US *
STATE CA *
NW_QUAD_CORNER_XY 505763.272 3776017.634 *
NE_QUAD_CORNER_XY 511526.546 3776022.925 *
SE_QUAD_CORNER_XY 511535.021 3769092.936 *
SW_QUAD_CORNER_XY 505767.509 3769087.651 *
SECONDARY_NW_QUAD_XY 505763.406 3775822.783 *
SECONDARY_NE_QUAD_XY 511526.811 3775828.074 *
SECONDARY_SE_QUAD_XY 511535.286 3768898.285 *
SECONDARY_SW_QUAD_XY 505767.643 3768892.999 *
RMSE_XY 2.00 *
IMAGE_SOURCE "CIR FILM" *
SOURCE_IMAGE_ID "NAPP 12517 18" *
SOURCE_IMAGE_DATE 2003 5 27 *
SOURCE_IMAGE_ID "NAPP 12517 17" *
SOURCE_IMAGE_DATE 2003 5 27 *
SOURCE_IMAGE_ID "NAPP 12484 31" *
SOURCE_IMAGE_DATE 2002 5 29 *
SOURCE_IMAGE_ID "NAPP 12484 24" *
SOURCE_IMAGE_DATE 2002 5 29 *
SOURCE_IMAGE_ID "NAPP 12484 23" *
SOURCE_IMAGE_DATE 2002 5 29 *
SOURCE_IMAGE_ID "NAPP 12484 22" *
SOURCE_IMAGE_DATE 2002 5 29 *
SOURCE_IMAGE_ID "NAPP 12484 55" *
SOURCE_IMAGE_DATE 2002 5 29 *
SOURCE_IMAGE_ID "NAPP 12484 56" *
SOURCE_IMAGE_DATE 2002 5 29 *
SOURCE_IMAGE_ID "NAPP 12484 57" *
SOURCE_IMAGE_DATE 2002 5 29 *
SOURCE_DEM_DATE 2003 1 1 *
AGENCY "WESTERN MAPPING CENTER (WMC)" *
PRODUCER "USDA FS GEOSPATIAL SERVICE AND TECHNOLOGY CENTER" *
PRODUCTION_SYSTEM "ORBIT OR_RECTIFY V.5.2" *
STANDARD_VERSION 1996 12 *
METADATA_DATE 2003 11 3 *
DATA_FILE_SIZE 145863561 *
BYTE_COUNT 19353 * * * * * * * * * * * * * * * * * * * * * * * * * * * * * * * * * * * * * * * * * * * * * * * * * * * * * * * * * * * * * * * * * * * * * * * * * * * * * * * * * * * * * * * * * * * * * * * * * * * * * * * * * * * * * * * * * * * * * * * * * * * * * * * * * * * * * * * * * * * * * * * * * * * * * * * * * * * * * * * * * * * * * * * * * * * * * * * * * * * * *
END_USGS_HEADER *
