BEGIN_USGS_DOQ_HEADER *
QUADRANGLE_NAME "ONYX PEAK" *
QUADRANT NW *
WEST_LONGITUDE -116 45 0.000 *
EAST_LONGITUDE -116 41 15.000 *
NORTH_LATITUDE 34 15 0.000 *
SOUTH_LATITUDE 34 11 15.000 *
PRODUCTION_DATE 2003 11 11 *
RASTER_ORDER LEFT_RIGHT/TOP_BOTTOM *
BAND_ORGANIZATION BIP *
BAND_CONTENT RED *
BAND_CONTENT GREEN *
BAND_CONTENT BLUE *
BITS_PER_PIXEL 8 *
SAMPLES_AND_LINES 6455 7547 *
HORIZONTAL_DATUM NAD83 *
HORIZONTAL_COORDINATE_SYSTEM UTM *
COORDINATE_ZONE 11 *
HORIZONTAL_UNITS METERS *
HORIZONTAL_RESOLUTION 1.0 *
SECONDARY_HORIZONTAL_DATUM NAD27 *
XY_ORIGIN 522640.030 3790220.760 *
SECONDARY_XY_ORIGIN 522719.664 3790024.817 *
NATION US *
STATE CA *
NW_QUAD_CORNER_XY 523019.131 3789904.311 *
NE_QUAD_CORNER_XY 528773.933 3789920.210 *
SE_QUAD_CORNER_XY 528795.189 3782990.048 *
SW_QUAD_CORNER_XY 523036.136 3782974.163 *
SECONDARY_NW_QUAD_XY 523019.657 3789709.064 *
SECONDARY_NE_QUAD_XY 528774.588 3789724.961 *
SECONDARY_SE_QUAD_XY 528795.843 3782794.998 *
SECONDARY_SW_QUAD_XY 523036.661 3782779.114 *
RMSE_XY 2.00 *
IMAGE_SOURCE "CIR FILM" *
SOURCE_IMAGE_ID "NAPP 12517 21" *
SOURCE_IMAGE_DATE 2003 5 27 *
SOURCE_IMAGE_ID "NAPP 12517 22" *
SOURCE_IMAGE_DATE 2003 5 27 *
SOURCE_IMAGE_ID "NAPP 12484 9" *
SOURCE_IMAGE_DATE 2002 5 29 *
SOURCE_IMAGE_ID "NAPP 12484 46" *
SOURCE_IMAGE_DATE 2002 5 29 *
SOURCE_IMAGE_ID "NAPP 12484 45" *
SOURCE_IMAGE_DATE 2002 5 29 *
SOURCE_IMAGE_ID "NAPP 12484 44" *
SOURCE_IMAGE_DATE 2002 5 29 *
SOURCE_IMAGE_ID "NAPP 12496 124" *
SOURCE_IMAGE_DATE 2002 6 4 *
SOURCE_IMAGE_ID "NAPP 12496 123" *
SOURCE_IMAGE_DATE 2002 6 4 *
SOURCE_IMAGE_ID "NAPP 12496 122" *
SOURCE_IMAGE_DATE 2002 6 4 *
SOURCE_DEM_DATE 2003 1 1 *
AGENCY "WESTERN MAPPING CENTER (WMC)" *
PRODUCER "USDA FS GEOSPATIAL SERVICE AND TECHNOLOGY CENTER" *
PRODUCTION_SYSTEM "ORBIT OR_RECTIFY V.5.2" *
STANDARD_VERSION 1996 12 *
METADATA_DATE 2003 11 3 *
DATA_FILE_SIZE 146167020 *
BYTE_COUNT 19365 * * * * * * * * * * * * * * * * * * * * * * * * * * * * * * * * * * * * * * * * * * * * * * * * * * * * * * * * * * * * * * * * * * * * * * * * * * * * * * * * * * * * * * * * * * * * * * * * * * * * * * * * * * * * * * * * * * * * * * * * * * * * * * * * * * * * * * * * * * * * * * * * * * * * * * * * * * * * * * * * * * * * * * * * * * * * * * * * * * * * * *
END_USGS_HEADER *
