BEGIN_USGS_DOQ_HEADER *
QUADRANGLE_NAME "MOONRIDGE" *
QUADRANT SW *
WEST_LONGITUDE -116 52 30.000 *
EAST_LONGITUDE -116 48 45.000 *
NORTH_LATITUDE 34 11 15.000 *
SOUTH_LATITUDE 34 7 30.000 *
PRODUCTION_DATE 2003 11 11 *
RASTER_ORDER LEFT_RIGHT/TOP_BOTTOM *
BAND_ORGANIZATION BIP *
BAND_CONTENT RED *
BAND_CONTENT GREEN *
BAND_CONTENT BLUE *
BITS_PER_PIXEL 8 *
SAMPLES_AND_LINES 6451 7540 *
HORIZONTAL_DATUM NAD83 *
HORIZONTAL_COORDINATE_SYSTEM UTM *
COORDINATE_ZONE 11 *
HORIZONTAL_UNITS METERS *
HORIZONTAL_RESOLUTION 1.0 *
SECONDARY_HORIZONTAL_DATUM NAD27 *
XY_ORIGIN 511138.620 3783262.670 *
SECONDARY_XY_ORIGIN 511218.332 3783066.711 *
NATION US *
STATE CA *
NW_QUAD_CORNER_XY 511518.058 3782952.983 *
NE_QUAD_CORNER_XY 517277.093 3782961.808 *
SE_QUAD_CORNER_XY 517289.826 3776031.742 *
SW_QUAD_CORNER_XY 511526.546 3776022.925 *
SECONDARY_NW_QUAD_XY 511518.322 3782757.934 *
SECONDARY_NE_QUAD_XY 517277.488 3782766.759 *
SECONDARY_SE_QUAD_XY 517290.221 3775836.891 *
SECONDARY_SW_QUAD_XY 511526.811 3775828.074 *
RMSE_XY 2.00 *
IMAGE_SOURCE "CIR FILM" *
SOURCE_IMAGE_ID "NAPP 12484 58" *
SOURCE_IMAGE_DATE 2002 5 29 *
SOURCE_IMAGE_ID "NAPP 12484 57" *
SOURCE_IMAGE_DATE 2002 5 29 *
SOURCE_IMAGE_ID "NAPP 12484 59" *
SOURCE_IMAGE_DATE 2002 5 29 *
SOURCE_IMAGE_ID "NAPP 12484 31" *
SOURCE_IMAGE_DATE 2002 5 29 *
SOURCE_IMAGE_ID "NAPP 12484 32" *
SOURCE_IMAGE_DATE 2002 5 29 *
SOURCE_IMAGE_ID "NAPP 12484 33" *
SOURCE_IMAGE_DATE 2002 5 29 *
SOURCE_IMAGE_ID "NAPP 12484 48" *
SOURCE_IMAGE_DATE 2002 5 29 *
SOURCE_IMAGE_ID "NAPP 12484 47" *
SOURCE_IMAGE_DATE 2002 5 29 *
SOURCE_IMAGE_ID "NAPP 12484 46" *
SOURCE_IMAGE_DATE 2002 5 29 *
SOURCE_DEM_DATE 2003 1 1 *
AGENCY "WESTERN MAPPING CENTER (WMC)" *
PRODUCER "USDA FS GEOSPATIAL SERVICE AND TECHNOLOGY CENTER" *
PRODUCTION_SYSTEM "ORBIT OR_RECTIFY V.5.2" *
STANDARD_VERSION 1996 12 *
METADATA_DATE 2003 11 3 *
DATA_FILE_SIZE 145940973 *
BYTE_COUNT 19353 * * * * * * * * * * * * * * * * * * * * * * * * * * * * * * * * * * * * * * * * * * * * * * * * * * * * * * * * * * * * * * * * * * * * * * * * * * * * * * * * * * * * * * * * * * * * * * * * * * * * * * * * * * * * * * * * * * * * * * * * * * * * * * * * * * * * * * * * * * * * * * * * * * * * * * * * * * * * * * * * * * * * * * * * * * * * * * * * * * * * *
END_USGS_HEADER *
