BEGIN_USGS_DOQ_HEADER *
QUADRANGLE_NAME "BIG BEAR LAKE" *
QUADRANT NW *
WEST_LONGITUDE -117 0 0.000 *
EAST_LONGITUDE -116 56 15.000 *
NORTH_LATITUDE 34 15 0.000 *
SOUTH_LATITUDE 34 11 15.000 *
PRODUCTION_DATE 2003 11 11 *
RASTER_ORDER LEFT_RIGHT/TOP_BOTTOM *
BAND_ORGANIZATION BIP *
BAND_CONTENT RED *
BAND_CONTENT GREEN *
BAND_CONTENT BLUE *
BITS_PER_PIXEL 8 *
SAMPLES_AND_LINES 6439 7533 *
HORIZONTAL_DATUM NAD83 *
HORIZONTAL_COORDINATE_SYSTEM UTM *
COORDINATE_ZONE 11 *
HORIZONTAL_UNITS METERS *
HORIZONTAL_RESOLUTION 1.0 *
SECONDARY_HORIZONTAL_DATUM NAD27 *
XY_ORIGIN 499619.890 3790178.560 *
SECONDARY_XY_ORIGIN 499699.997 3789982.538 *
NATION US *
STATE CA *
NW_QUAD_CORNER_XY 500000.000 3789876.047 *
NE_QUAD_CORNER_XY 505754.776 3789877.813 *
SE_QUAD_CORNER_XY 505759.028 3782947.688 *
SW_QUAD_CORNER_XY 500000.000 3782945.923 *
SECONDARY_NW_QUAD_XY 500000.002 3789680.799 *
SECONDARY_NE_QUAD_XY 505754.910 3789682.566 *
SECONDARY_SE_QUAD_XY 505759.162 3782752.639 *
SECONDARY_SW_QUAD_XY 500000.003 3782750.874 *
RMSE_XY 2.00 *
IMAGE_SOURCE "CIR FILM" *
SOURCE_IMAGE_ID "NAPP 12484 19" *
SOURCE_IMAGE_DATE 2002 5 29 *
SOURCE_IMAGE_ID "NAPP 12484 20" *
SOURCE_IMAGE_DATE 2002 5 29 *
SOURCE_IMAGE_ID "NAPP 12484 18" *
SOURCE_IMAGE_DATE 2002 5 29 *
SOURCE_IMAGE_ID "NAPP 12492 198" *
SOURCE_IMAGE_DATE 2002 6 1 *
SOURCE_IMAGE_ID "NAPP 12492 197" *
SOURCE_IMAGE_DATE 2002 6 1 *
SOURCE_IMAGE_ID "NAPP 12492 196" *
SOURCE_IMAGE_DATE 2002 6 1 *
SOURCE_IMAGE_ID "NAPP 12484 33" *
SOURCE_IMAGE_DATE 2002 5 29 *
SOURCE_IMAGE_ID "NAPP 12484 34" *
SOURCE_IMAGE_DATE 2002 5 29 *
SOURCE_IMAGE_ID "NAPP 12484 35" *
SOURCE_IMAGE_DATE 2002 5 29 *
SOURCE_DEM_DATE 2003 1 1 *
AGENCY "WESTERN MAPPING CENTER (WMC)" *
PRODUCER "USDA FS GEOSPATIAL SERVICE AND TECHNOLOGY CENTER" *
PRODUCTION_SYSTEM "ORBIT OR_RECTIFY V.5.2" *
STANDARD_VERSION 1996 12 *
METADATA_DATE 2003 11 3 *
DATA_FILE_SIZE 145534278 *
BYTE_COUNT 19317 * * * * * * * * * * * * * * * * * * * * * * * * * * * * * * * * * * * * * * * * * * * * * * * * * * * * * * * * * * * * * * * * * * * * * * * * * * * * * * * * * * * * * * * * * * * * * * * * * * * * * * * * * * * * * * * * * * * * * * * * * * * * * * * * * * * * * * * * * * * * * * * * * * * * * * * * * * * * * * * * * * * * * * * * * * * * * * * * * * * * *
END_USGS_HEADER *
