BEGIN_USGS_DOQ_HEADER *
QUADRANGLE_NAME "BIG BEAR LAKE" *
QUADRANT SE *
WEST_LONGITUDE -116 56 15.000 *
EAST_LONGITUDE -116 52 30.000 *
NORTH_LATITUDE 34 11 15.000 *
SOUTH_LATITUDE 34 7 30.000 *
PRODUCTION_DATE 2003 11 11 *
RASTER_ORDER LEFT_RIGHT/TOP_BOTTOM *
BAND_ORGANIZATION BIP *
BAND_CONTENT RED *
BAND_CONTENT GREEN *
BAND_CONTENT BLUE *
BITS_PER_PIXEL 8 *
SAMPLES_AND_LINES 6447 7536 *
HORIZONTAL_DATUM NAD83 *
HORIZONTAL_COORDINATE_SYSTEM UTM *
COORDINATE_ZONE 11 *
HORIZONTAL_UNITS METERS *
HORIZONTAL_RESOLUTION 1.0 *
SECONDARY_HORIZONTAL_DATUM NAD27 *
XY_ORIGIN 505379.330 3783253.890 *
SECONDARY_XY_ORIGIN 505459.174 3783057.891 *
NATION US *
STATE CA *
NW_QUAD_CORNER_XY 505759.028 3782947.688 *
NE_QUAD_CORNER_XY 511518.058 3782952.983 *
SE_QUAD_CORNER_XY 511526.546 3776022.925 *
SW_QUAD_CORNER_XY 505763.272 3776017.634 *
SECONDARY_NW_QUAD_XY 505759.162 3782752.639 *
SECONDARY_NE_QUAD_XY 511518.322 3782757.934 *
SECONDARY_SE_QUAD_XY 511526.811 3775828.074 *
SECONDARY_SW_QUAD_XY 505763.406 3775822.783 *
RMSE_XY 2.00 *
IMAGE_SOURCE "CIR FILM" *
SOURCE_IMAGE_ID "NAPP 12484 32" *
SOURCE_IMAGE_DATE 2002 5 29 *
SOURCE_IMAGE_ID "NAPP 12484 31" *
SOURCE_IMAGE_DATE 2002 5 29 *
SOURCE_IMAGE_ID "NAPP 12484 33" *
SOURCE_IMAGE_DATE 2002 5 29 *
SOURCE_IMAGE_ID "NAPP 12484 22" *
SOURCE_IMAGE_DATE 2002 5 29 *
SOURCE_IMAGE_ID "NAPP 12484 21" *
SOURCE_IMAGE_DATE 2002 5 29 *
SOURCE_IMAGE_ID "NAPP 12484 20" *
SOURCE_IMAGE_DATE 2002 5 29 *
SOURCE_IMAGE_ID "NAPP 12484 57" *
SOURCE_IMAGE_DATE 2002 5 29 *
SOURCE_IMAGE_ID "NAPP 12484 58" *
SOURCE_IMAGE_DATE 2002 5 29 *
SOURCE_IMAGE_ID "NAPP 12484 59" *
SOURCE_IMAGE_DATE 2002 5 29 *
SOURCE_DEM_DATE 2003 1 1 *
AGENCY "WESTERN MAPPING CENTER (WMC)" *
PRODUCER "USDA FS GEOSPATIAL SERVICE AND TECHNOLOGY CENTER" *
PRODUCTION_SYSTEM "ORBIT OR_RECTIFY V.5.2" *
STANDARD_VERSION 1996 12 *
METADATA_DATE 2003 11 3 *
DATA_FILE_SIZE 145773117 *
BYTE_COUNT 19341 * * * * * * * * * * * * * * * * * * * * * * * * * * * * * * * * * * * * * * * * * * * * * * * * * * * * * * * * * * * * * * * * * * * * * * * * * * * * * * * * * * * * * * * * * * * * * * * * * * * * * * * * * * * * * * * * * * * * * * * * * * * * * * * * * * * * * * * * * * * * * * * * * * * * * * * * * * * * * * * * * * * * * * * * * * * * * * * * * * * * *
END_USGS_HEADER *
