BEGIN_USGS_DOQ_HEADER *
QUADRANGLE_NAME "BIG BEAR LAKE" *
QUADRANT SW *
WEST_LONGITUDE -117 0 0.000 *
EAST_LONGITUDE -116 56 15.000 *
NORTH_LATITUDE 34 11 15.000 *
SOUTH_LATITUDE 34 7 30.000 *
PRODUCTION_DATE 2003 11 11 *
RASTER_ORDER LEFT_RIGHT/TOP_BOTTOM *
BAND_ORGANIZATION BIP *
BAND_CONTENT RED *
BAND_CONTENT GREEN *
BAND_CONTENT BLUE *
BITS_PER_PIXEL 8 *
SAMPLES_AND_LINES 6443 7533 *
HORIZONTAL_DATUM NAD83 *
HORIZONTAL_COORDINATE_SYSTEM UTM *
COORDINATE_ZONE 11 *
HORIZONTAL_UNITS METERS *
HORIZONTAL_RESOLUTION 1.0 *
SECONDARY_HORIZONTAL_DATUM NAD27 *
XY_ORIGIN 499620.040 3783248.640 *
SECONDARY_XY_ORIGIN 499700.011 3783052.600 *
NATION US *
STATE CA *
NW_QUAD_CORNER_XY 500000.000 3782945.923 *
NE_QUAD_CORNER_XY 505759.028 3782947.688 *
SE_QUAD_CORNER_XY 505763.272 3776017.634 *
SW_QUAD_CORNER_XY 500000.000 3776015.871 *
SECONDARY_NW_QUAD_XY 500000.003 3782750.874 *
SECONDARY_NE_QUAD_XY 505759.162 3782752.639 *
SECONDARY_SE_QUAD_XY 505763.406 3775822.783 *
SECONDARY_SW_QUAD_XY 500000.003 3775821.020 *
RMSE_XY 2.00 *
IMAGE_SOURCE "CIR FILM" *
SOURCE_IMAGE_ID "NAPP 12484 21" *
SOURCE_IMAGE_DATE 2002 5 29 *
SOURCE_IMAGE_ID "NAPP 12484 22" *
SOURCE_IMAGE_DATE 2002 5 29 *
SOURCE_IMAGE_ID "NAPP 12484 20" *
SOURCE_IMAGE_DATE 2002 5 29 *
SOURCE_IMAGE_ID "NAPP 12492 200" *
SOURCE_IMAGE_DATE 2002 6 1 *
SOURCE_IMAGE_ID "NAPP 12492 199" *
SOURCE_IMAGE_DATE 2002 6 1 *
SOURCE_IMAGE_ID "NAPP 12492 198" *
SOURCE_IMAGE_DATE 2002 6 1 *
SOURCE_IMAGE_ID "NAPP 12484 31" *
SOURCE_IMAGE_DATE 2002 5 29 *
SOURCE_IMAGE_ID "NAPP 12484 32" *
SOURCE_IMAGE_DATE 2002 5 29 *
SOURCE_IMAGE_ID "NAPP 12484 33" *
SOURCE_IMAGE_DATE 2002 5 29 *
SOURCE_DEM_DATE 2003 1 1 *
AGENCY "WESTERN MAPPING CENTER (WMC)" *
PRODUCER "USDA FS GEOSPATIAL SERVICE AND TECHNOLOGY CENTER" *
PRODUCTION_SYSTEM "ORBIT OR_RECTIFY V.5.2" *
STANDARD_VERSION 1996 12 *
METADATA_DATE 2003 11 3 *
DATA_FILE_SIZE 145624686 *
BYTE_COUNT 19329 * * * * * * * * * * * * * * * * * * * * * * * * * * * * * * * * * * * * * * * * * * * * * * * * * * * * * * * * * * * * * * * * * * * * * * * * * * * * * * * * * * * * * * * * * * * * * * * * * * * * * * * * * * * * * * * * * * * * * * * * * * * * * * * * * * * * * * * * * * * * * * * * * * * * * * * * * * * * * * * * * * * * * * * * * * * * * * * * * * * * *
END_USGS_HEADER *
