BEGIN_USGS_DOQ_HEADER *
QUADRANGLE_NAME "RATTLESNAKE CANYON" *
QUADRANT NW *
WEST_LONGITUDE -116 45 0.000 *
EAST_LONGITUDE -116 41 15.000 *
NORTH_LATITUDE 34 22 30.000 *
SOUTH_LATITUDE 34 18 45.000 *
PRODUCTION_DATE 2003 11 11 *
RASTER_ORDER LEFT_RIGHT/TOP_BOTTOM *
BAND_ORGANIZATION BIP *
BAND_CONTENT RED *
BAND_CONTENT GREEN *
BAND_CONTENT BLUE *
BITS_PER_PIXEL 8 *
SAMPLES_AND_LINES 6447 7547 *
HORIZONTAL_DATUM NAD83 *
HORIZONTAL_COORDINATE_SYSTEM UTM *
COORDINATE_ZONE 11 *
HORIZONTAL_UNITS METERS *
HORIZONTAL_RESOLUTION 1.0 *
SECONDARY_HORIZONTAL_DATUM NAD27 *
XY_ORIGIN 522605.960 3804081.050 *
SECONDARY_XY_ORIGIN 522685.574 3803885.036 *
NATION US *
STATE CA *
NW_QUAD_CORNER_XY 522985.039 3803764.818 *
NE_QUAD_CORNER_XY 528731.318 3803780.744 *
SE_QUAD_CORNER_XY 528752.643 3796850.442 *
SW_QUAD_CORNER_XY 523002.099 3796834.529 *
SECONDARY_NW_QUAD_XY 522985.565 3803569.177 *
SECONDARY_NE_QUAD_XY 528731.974 3803585.103 *
SECONDARY_SE_QUAD_XY 528753.298 3796654.997 *
SECONDARY_SW_QUAD_XY 523002.625 3796639.085 *
RMSE_XY 2.00 *
IMAGE_SOURCE "CIR FILM" *
SOURCE_IMAGE_ID "NAPP 12484 12" *
SOURCE_IMAGE_DATE 2002 5 29 *
SOURCE_IMAGE_ID "NAPP 12484 11" *
SOURCE_IMAGE_DATE 2002 5 29 *
SOURCE_IMAGE_ID "NAPP 12484 13" *
SOURCE_IMAGE_DATE 2002 5 29 *
SOURCE_IMAGE_ID "NAPP 12484 42" *
SOURCE_IMAGE_DATE 2002 5 29 *
SOURCE_IMAGE_ID "NAPP 12484 41" *
SOURCE_IMAGE_DATE 2002 5 29 *
SOURCE_IMAGE_ID "NAPP 12484 40" *
SOURCE_IMAGE_DATE 2002 5 29 *
SOURCE_IMAGE_ID "NAPP 12496 120" *
SOURCE_IMAGE_DATE 2002 6 4 *
SOURCE_IMAGE_ID "NAPP 12496 119" *
SOURCE_IMAGE_DATE 2002 6 4 *
SOURCE_IMAGE_ID "NAPP 12496 118" *
SOURCE_IMAGE_DATE 2002 6 4 *
SOURCE_DEM_DATE 2003 1 1 *
AGENCY "WESTERN MAPPING CENTER (WMC)" *
PRODUCER "USDA FS GEOSPATIAL SERVICE AND TECHNOLOGY CENTER" *
PRODUCTION_SYSTEM "ORBIT OR_RECTIFY V.5.2" *
STANDARD_VERSION 1996 12 *
METADATA_DATE 2003 11 3 *
DATA_FILE_SIZE 145985868 *
BYTE_COUNT 19341 * * * * * * * * * * * * * * * * * * * * * * * * * * * * * * * * * * * * * * * * * * * * * * * * * * * * * * * * * * * * * * * * * * * * * * * * * * * * * * * * * * * * * * * * * * * * * * * * * * * * * * * * * * * * * * * * * * * * * * * * * * * * * * * * * * * * * * * * * * * * * * * * * * * * * * * * * * * * * * * * * * * * * * * * * * * * * * * * * * * * *
END_USGS_HEADER *
