BEGIN_USGS_DOQ_HEADER *
QUADRANGLE_NAME "FAWNSKIN" *
QUADRANT NE *
WEST_LONGITUDE -116 56 15.000 *
EAST_LONGITUDE -116 52 30.000 *
NORTH_LATITUDE 34 22 30.000 *
SOUTH_LATITUDE 34 18 45.000 *
PRODUCTION_DATE 2003 11 11 *
RASTER_ORDER LEFT_RIGHT/TOP_BOTTOM *
BAND_ORGANIZATION BIP *
BAND_CONTENT RED *
BAND_CONTENT GREEN *
BAND_CONTENT BLUE *
BITS_PER_PIXEL 8 *
SAMPLES_AND_LINES 6435 7536 *
HORIZONTAL_DATUM NAD83 *
HORIZONTAL_COORDINATE_SYSTEM UTM *
COORDINATE_ZONE 11 *
HORIZONTAL_UNITS METERS *
HORIZONTAL_RESOLUTION 1.0 *
SECONDARY_HORIZONTAL_DATUM NAD27 *
XY_ORIGIN 505366.470 3804044.010 *
SECONDARY_XY_ORIGIN 505446.390 3803847.906 *
NATION US *
STATE CA *
NW_QUAD_CORNER_XY 505746.254 3803738.275 *
NE_QUAD_CORNER_XY 511492.510 3803743.584 *
SE_QUAD_CORNER_XY 511501.039 3796813.313 *
SW_QUAD_CORNER_XY 505750.518 3796808.009 *
SECONDARY_NW_QUAD_XY 505746.388 3803542.634 *
SECONDARY_NE_QUAD_XY 511492.774 3803547.942 *
SECONDARY_SE_QUAD_XY 511501.304 3796617.868 *
SECONDARY_SW_QUAD_XY 505750.652 3796612.564 *
RMSE_XY 2.00 *
IMAGE_SOURCE "CIR FILM" *
SOURCE_IMAGE_ID "NAPP 12484 38" *
SOURCE_IMAGE_DATE 2002 5 29 *
SOURCE_IMAGE_ID "NAPP 12484 37" *
SOURCE_IMAGE_DATE 2002 5 29 *
SOURCE_IMAGE_ID "NAPP 12484 39" *
SOURCE_IMAGE_DATE 2002 5 29 *
SOURCE_IMAGE_ID "NAPP 12484 16" *
SOURCE_IMAGE_DATE 2002 5 29 *
SOURCE_IMAGE_ID "NAPP 12484 15" *
SOURCE_IMAGE_DATE 2002 5 29 *
SOURCE_IMAGE_ID "NAPP 12484 14" *
SOURCE_IMAGE_DATE 2002 5 29 *
SOURCE_IMAGE_ID "NAPP 12484 63" *
SOURCE_IMAGE_DATE 2002 5 29 *
SOURCE_IMAGE_ID "NAPP 12484 64" *
SOURCE_IMAGE_DATE 2002 5 29 *
SOURCE_IMAGE_ID "NAPP 12484 65" *
SOURCE_IMAGE_DATE 2002 5 29 *
SOURCE_DEM_DATE 2003 1 1 *
AGENCY "WESTERN MAPPING CENTER (WMC)" *
PRODUCER "USDA FS GEOSPATIAL SERVICE AND TECHNOLOGY CENTER" *
PRODUCTION_SYSTEM "ORBIT OR_RECTIFY V.5.2" *
STANDARD_VERSION 1996 12 *
METADATA_DATE 2003 11 3 *
DATA_FILE_SIZE 145501785 *
BYTE_COUNT 19305 * * * * * * * * * * * * * * * * * * * * * * * * * * * * * * * * * * * * * * * * * * * * * * * * * * * * * * * * * * * * * * * * * * * * * * * * * * * * * * * * * * * * * * * * * * * * * * * * * * * * * * * * * * * * * * * * * * * * * * * * * * * * * * * * * * * * * * * * * * * * * * * * * * * * * * * * * * * * * * * * * * * * * * * * * * * * * * * * * * * * *
END_USGS_HEADER *
