BEGIN_USGS_DOQ_HEADER *
QUADRANGLE_NAME "FAWNSKIN" *
QUADRANT NW *
WEST_LONGITUDE -117 0 0.000 *
EAST_LONGITUDE -116 56 15.000 *
NORTH_LATITUDE 34 22 30.000 *
SOUTH_LATITUDE 34 18 45.000 *
PRODUCTION_DATE 2003 11 11 *
RASTER_ORDER LEFT_RIGHT/TOP_BOTTOM *
BAND_ORGANIZATION BIP *
BAND_CONTENT RED *
BAND_CONTENT GREEN *
BAND_CONTENT BLUE *
BITS_PER_PIXEL 8 *
SAMPLES_AND_LINES 6431 7532 *
HORIZONTAL_DATUM NAD83 *
HORIZONTAL_COORDINATE_SYSTEM UTM *
COORDINATE_ZONE 11 *
HORIZONTAL_UNITS METERS *
HORIZONTAL_RESOLUTION 1.0 *
SECONDARY_HORIZONTAL_DATUM NAD27 *
XY_ORIGIN 499619.940 3804038.730 *
SECONDARY_XY_ORIGIN 499699.956 3803842.595 *
NATION US *
STATE CA *
NW_QUAD_CORNER_XY 500000.000 3803736.506 *
NE_QUAD_CORNER_XY 505746.254 3803738.275 *
SE_QUAD_CORNER_XY 505750.518 3796808.009 *
SW_QUAD_CORNER_XY 500000.000 3796806.241 *
SECONDARY_NW_QUAD_XY 500000.002 3803540.864 *
SECONDARY_NE_QUAD_XY 505746.388 3803542.634 *
SECONDARY_SE_QUAD_XY 505750.652 3796612.564 *
SECONDARY_SW_QUAD_XY 500000.002 3796610.796 *
RMSE_XY 2.00 *
IMAGE_SOURCE "CIR FILM" *
SOURCE_IMAGE_ID "NAPP 12484 15" *
SOURCE_IMAGE_DATE 2002 5 29 *
SOURCE_IMAGE_ID "NAPP 12484 16" *
SOURCE_IMAGE_DATE 2002 5 29 *
SOURCE_IMAGE_ID "NAPP 12484 14" *
SOURCE_IMAGE_DATE 2002 5 29 *
SOURCE_IMAGE_ID "NAPP 12492 194" *
SOURCE_IMAGE_DATE 2002 6 1 *
SOURCE_IMAGE_ID "NAPP 12492 193" *
SOURCE_IMAGE_DATE 2002 6 1 *
SOURCE_IMAGE_ID "NAPP 12492 192" *
SOURCE_IMAGE_DATE 2002 6 1 *
SOURCE_IMAGE_ID "NAPP 12484 37" *
SOURCE_IMAGE_DATE 2002 5 29 *
SOURCE_IMAGE_ID "NAPP 12484 38" *
SOURCE_IMAGE_DATE 2002 5 29 *
SOURCE_IMAGE_ID "NAPP 12484 39" *
SOURCE_IMAGE_DATE 2002 5 29 *
SOURCE_DEM_DATE 2003 1 1 *
AGENCY "WESTERN MAPPING CENTER (WMC)" *
PRODUCER "USDA FS GEOSPATIAL SERVICE AND TECHNOLOGY CENTER" *
PRODUCTION_SYSTEM "ORBIT OR_RECTIFY V.5.2" *
STANDARD_VERSION 1996 12 *
METADATA_DATE 2003 11 3 *
DATA_FILE_SIZE 145334169 *
BYTE_COUNT 19293 * * * * * * * * * * * * * * * * * * * * * * * * * * * * * * * * * * * * * * * * * * * * * * * * * * * * * * * * * * * * * * * * * * * * * * * * * * * * * * * * * * * * * * * * * * * * * * * * * * * * * * * * * * * * * * * * * * * * * * * * * * * * * * * * * * * * * * * * * * * * * * * * * * * * * * * * * * * * * * * * * * * * * * * * * * * * * * * * * * * * *
END_USGS_HEADER *
