BEGIN_USGS_DOQ_HEADER *
QUADRANGLE_NAME "JOSHUA TREE SOUTH" 3.45 or 7.5-min. name*
QUADRANT NE quadrant indicator if cell size = 3.75-minutes*
WEST_LONGITUDE -116 18 45.000 signed deg min sec SDDD MM SS.SSS*
EAST_LONGITUDE -116 15 0.000 signed deg min sec SDDD MM SS.SSS*
NORTH_LATITUDE 34 7 30.000 signed deg min sec SDDD MM SS.SSS*
SOUTH_LATITUDE 34 3 45.000 signed deg min sec SDDD MM SS.SSS*
PRODUCTION_DATE 1997 2 13 yyyy mm dd*
RASTER_ORDER LEFT_RIGHT/TOP_BOTTOM video display order*
BAND_ORGANIZATION "SINGLE FILE" single file or BSQ, or BIL or BIP*
BAND_CONTENT BLACK&WHITE black&white or red green blue*
BITS_PER_PIXEL 8 radiometric resolution*
SAMPLES_AND_LINES 6510 7590 number of columns and rows*
HORIZONTAL_DATUM NAD83 primary horizontal datum*
HORIZONTAL_COORDINATE_SYSTEM UTM *
COORDINATE_ZONE 11 coordinate system zone number*
HORIZONTAL_UNITS METERS coordinate system units*
HORIZONTAL_RESOLUTION 1.00 pixel horiz. ground sample distance*
SECONDARY_HORIZONTAL_DATUM NAD27 secondary horizontal datum*
XY_ORIGIN 563010.000 3776580.000 coord. of upper left pixel pri. datum*
SECONDARY_XY_ORIGIN 563089.240 3776384.996 coord upper left pixel sec datum*
NATION US nation code*
STATE CA state fip code*
NW_QUAD_CORNER_XY 563396.555 3776229.254 XY coords. of pri. NW quad corner*
NE_QUAD_CORNER_XY 569159.996 3776269.817 XY coords. of pri. NE quad corner*
SE_QUAD_CORNER_XY 569210.850 3769339.612 XY coords. of pri. SE quad corner*
SW_QUAD_CORNER_XY 563443.171 3769299.086 XY coords. of pri. SW quad corner*
SECONDARY_NW_QUAD_XY 563397.988 3776034.408 XY coords. - sec. NW quad cor.*
SECONDARY_NE_QUAD_XY 569161.559 3776074.972 XY coords. - sec. NE quad cor.*
SECONDARY_SE_QUAD_XY 569212.411 3769144.967 XY coords. - sec. SE quad cor.*
SECONDARY_SW_QUAD_XY 563444.602 3769104.439 XY coords. - sec. SW quad cor.*
RMSE_XY 1.00 doq horiz. accuracy*
IMAGE_SOURCE "BLACK AND WHITE FILM" b&w, cir, natural color, other*
SOURCE_IMAGE_ID "NAPP 6810 002" source image id*
SOURCE_IMAGE_DATE 1994 5 28 source image date as yyyy mm dd*
SOURCE_DEM_DATE 1997 2 13 source dem date yyyy mm dd*
AGENCY "WESTERN MAPPING CENTER (WMC)" oversight agency*
PRODUCER "ANALYTICAL SURVEYS INC." producer/contractor*
PRODUCTION_SYSTEM "ORBIT OR_RECTIFY V.5.2" production system*
STANDARD_VERSION 1996 12 version of DOQ standard*
METADATA_DATE 1997 12 12 date created or changed, yyyy mm dd*
DATA_FILE_SIZE 49417410 data set size in bytes*
BYTE_COUNT 6510 header byte count* * * * * * * * * * * * * * * * * * * * * * * * * * * * * * * * * * * * * * *
END_USGS_HEADER *
