BEGIN_USGS_DOQ_HEADER *
QUADRANGLE_NAME "SAN GORGONIO MOUNTAIN" *
QUADRANT NE *
NORTH_LATITUDE 34 07 30.000 *
WEST_LONGITUDE -116 48 45.000 *
SOUTH_LATITUDE 34 03 45.000 *
EAST_LONGITUDE -116 45 00.000 *
PRODUCTION_DATE 1998 09 29 *
RASTER_ORDER LEFT_RIGHT/TOP_BOTTOM *
BAND_ORGANIZATION "SINGLE FILE" *
BAND_CONTENT BLACK&WHITE *
BITS_PER_PIXEL 8 *
SAMPLES_AND_LINES 6480 7590 *
HORIZONTAL_DATUM NAD83 *
HORIZONTAL_COORDINATE_SYSTEM UTM *
COORDINATE_ZONE 11 *
HORIZONTAL_UNITS METERS *
HORIZONTAL_RESOLUTION 1.000 *
SECONDARY_HORIZONTAL_DATUM NAD27 *
XY_ORIGIN 516900.000 3776370.000 *
SECONDARY_XY_ORIGIN 516979.397 3776174.119 *
NATION US *
STATE CA *
NW_QUAD_CORNER_XY 517289.826 3776031.742 *
NE_QUAD_CORNER_XY 523053.113 3776044.086 *
SE_QUAD_CORNER_XY 523070.063 3769114.079 *
SW_QUAD_CORNER_XY 517302.538 3769101.746 *
SECONDARY_NW_QUAD_XY 517290.217 3775836.891 *
SECONDARY_NE_QUAD_XY 523053.634 3775849.236 *
SECONDARY_SE_QUAD_XY 523070.584 3768919.429 *
SECONDARY_SW_QUAD_XY 517302.929 3768907.095 *
RMSE_XY 2.065 *
IMAGE_SOURCE "BLACK AND WHITE FILM" *
SOURCE_IMAGE_ID "NAPP 6874 40" *
SOURCE_IMAGE_DATE 1995 10 02 *
SOURCE_IMAGE_ID "NAPP 6874 41" *
SOURCE_IMAGE_DATE 1995 10 02 *
SOURCE_IMAGE_ID "NAPP 6874 39" *
SOURCE_IMAGE_DATE 1995 10 02 *
SOURCE_DEM_DATE 1969 01 01 *
AGENCY "WESTERN MAPPING CENTER (WMC)" *
PRODUCER "ANALYTICAL SURVEYS INC." *
PRODUCTION_SYSTEM "ORBIT OR_RECTIFY V.5.2" *
STANDARD_VERSION 1996 12 *
METADATA_DATE 1998 11 10 *
DATA_FILE_SIZE 49189680 *
BYTE_COUNT 6480 * * * * * * * * * * * * * * * * * * * * * * * * * * * * * * * * * *
END_USGS_HEADER *
