BEGIN_USGS_DOQ_HEADER *
QUADRANGLE_NAME "SAN GORGONIO MOUNTAIN" *
QUADRANT SW *
NORTH_LATITUDE 34 03 45.000 *
WEST_LONGITUDE -116 52 30.000 *
SOUTH_LATITUDE 34 00 00.000 *
EAST_LONGITUDE -116 48 45.000 *
PRODUCTION_DATE 1998 09 29 *
RASTER_ORDER LEFT_RIGHT/TOP_BOTTOM *
BAND_ORGANIZATION "SINGLE FILE" *
BAND_CONTENT BLACK&WHITE *
BITS_PER_PIXEL 8 *
SAMPLES_AND_LINES 6480 7560 *
HORIZONTAL_DATUM NAD83 *
HORIZONTAL_COORDINATE_SYSTEM UTM *
COORDINATE_ZONE 11 *
HORIZONTAL_UNITS METERS *
HORIZONTAL_RESOLUTION 1.000 *
SECONDARY_HORIZONTAL_DATUM NAD27 *
XY_ORIGIN 511140.000 3769410.000 *
SECONDARY_XY_ORIGIN 511219.369 3769214.080 *
NATION US *
STATE CA *
NW_QUAD_CORNER_XY 511535.021 3769092.936 *
NE_QUAD_CORNER_XY 517302.538 3769101.746 *
SE_QUAD_CORNER_XY 517315.230 3762171.821 *
SW_QUAD_CORNER_XY 511543.482 3762163.019 *
SECONDARY_NW_QUAD_XY 511535.282 3768898.285 *
SECONDARY_NE_QUAD_XY 517302.929 3768907.095 *
SECONDARY_SE_QUAD_XY 517315.620 3761977.370 *
SECONDARY_SW_QUAD_XY 511543.742 3761968.568 *
RMSE_XY 2.385 *
IMAGE_SOURCE "BLACK AND WHITE FILM" *
SOURCE_IMAGE_ID "NAPP 6874 51" *
SOURCE_IMAGE_DATE 1995 10 02 *
SOURCE_IMAGE_ID "NAPP 6874 52" *
SOURCE_IMAGE_DATE 1995 10 02 *
SOURCE_IMAGE_ID "NAPP 6874 50" *
SOURCE_IMAGE_DATE 1995 10 02 *
SOURCE_DEM_DATE 1969 01 01 *
AGENCY "WESTERN MAPPING CENTER (WMC)" *
PRODUCER "ANALYTICAL SURVEYS INC." *
PRODUCTION_SYSTEM "ORBIT OR_RECTIFY V.5.2" *
STANDARD_VERSION 1996 12 *
METADATA_DATE 1998 11 10 *
DATA_FILE_SIZE 48995280 *
BYTE_COUNT 6480 * * * * * * * * * * * * * * * * * * * * * * * * * * * * * * * * * *
END_USGS_HEADER *
