BEGIN_USGS_DOQ_HEADER *
QUADRANGLE_NAME "FOREST FALLS" *
QUADRANT NE *
NORTH_LATITUDE 34 07 30.000 *
WEST_LONGITUDE -116 56 15.000 *
SOUTH_LATITUDE 34 03 45.000 *
EAST_LONGITUDE -116 52 30.000 *
PRODUCTION_DATE 1998 09 29 *
RASTER_ORDER LEFT_RIGHT/TOP_BOTTOM *
BAND_ORGANIZATION "SINGLE FILE" *
BAND_CONTENT BLACK&WHITE *
BITS_PER_PIXEL 8 *
SAMPLES_AND_LINES 6480 7560 *
HORIZONTAL_DATUM NAD83 *
HORIZONTAL_COORDINATE_SYSTEM UTM *
COORDINATE_ZONE 11 *
HORIZONTAL_UNITS METERS *
HORIZONTAL_RESOLUTION 1.000 *
SECONDARY_HORIZONTAL_DATUM NAD27 *
XY_ORIGIN 505380.000 3776340.000 *
SECONDARY_XY_ORIGIN 505459.685 3776143.994 *
NATION US *
STATE CA *
NW_QUAD_CORNER_XY 505763.272 3776017.634 *
NE_QUAD_CORNER_XY 511526.546 3776022.925 *
SE_QUAD_CORNER_XY 511535.021 3769092.936 *
SW_QUAD_CORNER_XY 505767.509 3769087.651 *
SECONDARY_NW_QUAD_XY 505763.402 3775822.783 *
SECONDARY_NE_QUAD_XY 511526.807 3775828.074 *
SECONDARY_SE_QUAD_XY 511535.282 3768898.285 *
SECONDARY_SW_QUAD_XY 505767.639 3768893.000 *
RMSE_XY 3.698 *
IMAGE_SOURCE "BLACK AND WHITE FILM" *
SOURCE_IMAGE_ID "NAPP 6874 73" *
SOURCE_IMAGE_DATE 1995 10 02 *
SOURCE_IMAGE_ID "NAPP 6874 72" *
SOURCE_IMAGE_DATE 1995 10 02 *
SOURCE_DEM_DATE 1988 01 01 *
AGENCY "WESTERN MAPPING CENTER (WMC)" *
PRODUCER "ANALYTICAL SURVEYS INC." *
PRODUCTION_SYSTEM "ORBIT OR_RECTIFY V.5.2" *
STANDARD_VERSION 1996 12 *
METADATA_DATE 1998 11 10 *
DATA_FILE_SIZE 48995280 *
BYTE_COUNT 6480 * * * * * * * * * * * * * * * * * * * * * * * * * * * * * * * * * * * *
END_USGS_HEADER *
