BEGIN_USGS_DOQ_HEADER *
QUADRANGLE_NAME "FOREST FALLS" *
QUADRANT NW *
NORTH_LATITUDE 34 07 30.000 *
WEST_LONGITUDE -117 00 00.000 *
SOUTH_LATITUDE 34 03 45.000 *
EAST_LONGITUDE -116 56 15.000 *
PRODUCTION_DATE 1998 09 29 *
RASTER_ORDER LEFT_RIGHT/TOP_BOTTOM *
BAND_ORGANIZATION "SINGLE FILE" *
BAND_CONTENT BLACK&WHITE *
BITS_PER_PIXEL 8 *
SAMPLES_AND_LINES 6450 7560 *
HORIZONTAL_DATUM NAD83 *
HORIZONTAL_COORDINATE_SYSTEM UTM *
COORDINATE_ZONE 11 *
HORIZONTAL_UNITS METERS *
HORIZONTAL_RESOLUTION 1.000 *
SECONDARY_HORIZONTAL_DATUM NAD27 *
XY_ORIGIN 499620.000 3776340.000 *
SECONDARY_XY_ORIGIN 499699.830 3776143.932 *
NATION US *
STATE CA *
NW_QUAD_CORNER_XY 500000.000 3776015.871 *
NE_QUAD_CORNER_XY 505763.272 3776017.634 *
SE_QUAD_CORNER_XY 505767.509 3769087.651 *
SW_QUAD_CORNER_XY 500000.000 3769085.889 *
SECONDARY_NW_QUAD_XY 500000.000 3775821.020 *
SECONDARY_NE_QUAD_XY 505763.402 3775822.783 *
SECONDARY_SE_QUAD_XY 505767.639 3768893.000 *
SECONDARY_SW_QUAD_XY 500000.000 3768891.238 *
RMSE_XY 1.335 *
IMAGE_SOURCE "BLACK AND WHITE FILM" *
SOURCE_IMAGE_ID "NAPP 6864 114" *
SOURCE_IMAGE_DATE 1994 05 31 *
SOURCE_IMAGE_ID "NAPP 6864 115" *
SOURCE_IMAGE_DATE 1994 05 31 *
SOURCE_IMAGE_ID "NAPP 6874 73" *
SOURCE_IMAGE_DATE 1995 10 02 *
SOURCE_IMAGE_ID "NAPP 6864 113" *
SOURCE_IMAGE_DATE 1994 05 31 *
SOURCE_IMAGE_ID "NAPP 6877 12" *
SOURCE_IMAGE_DATE 1995 10 07 *
SOURCE_IMAGE_ID "NAPP 6877 11" *
SOURCE_IMAGE_DATE 1995 10 07 *
SOURCE_DEM_DATE 1988 01 01 *
AGENCY "WESTERN MAPPING CENTER (WMC)" *
PRODUCER "ANALYTICAL SURVEYS INC." *
PRODUCTION_SYSTEM "ORBIT OR_RECTIFY V.5.2" *
STANDARD_VERSION 1996 12 *
METADATA_DATE 1998 11 11 *
DATA_FILE_SIZE 48768450 *
BYTE_COUNT 6450 * * * * * * * * * * * * * * * * * * * * * * * * * * * *
END_USGS_HEADER *
