BEGIN_USGS_DOQ_HEADER *
QUADRANGLE_NAME "TWENTYNINE PALMS" *
QUADRANT NE *
NORTH_LATITUDE 34 15 00.000 *
WEST_LONGITUDE -116 03 45.000 *
SOUTH_LATITUDE 34 11 15.000 *
EAST_LONGITUDE -116 00 00.000 *
PRODUCTION_DATE 1998 05 21 *
RASTER_ORDER LEFT_RIGHT/TOP_BOTTOM *
BAND_ORGANIZATION "SINGLE FILE" *
BAND_CONTENT BLACK&WHITE *
BITS_PER_PIXEL 8 *
SAMPLES_AND_LINES 6540 7620 *
HORIZONTAL_DATUM NAD83 *
HORIZONTAL_COORDINATE_SYSTEM UTM *
COORDINATE_ZONE 11 *
HORIZONTAL_UNITS METERS *
HORIZONTAL_RESOLUTION 1.000 *
SECONDARY_HORIZONTAL_DATUM NAD27 *
XY_ORIGIN 585930.000 3790650.000 *
SECONDARY_XY_ORIGIN 586009.007 3790455.436 *
NATION US *
STATE CA *
NW_QUAD_CORNER_XY 586323.065 3790273.537 *
NE_QUAD_CORNER_XY 592078.145 3790328.307 *
SE_QUAD_CORNER_XY 592146.174 3783397.792 *
SW_QUAD_CORNER_XY 586386.841 3783343.070 *
SECONDARY_NW_QUAD_XY 586325.022 3790078.298 *
SECONDARY_NE_QUAD_XY 592080.232 3790133.069 *
SECONDARY_SE_QUAD_XY 592148.260 3783202.753 *
SECONDARY_SW_QUAD_XY 586388.796 3783148.029 *
RMSE_XY 0.917 *
IMAGE_SOURCE "BLACK AND WHITE FILM" *
SOURCE_IMAGE_ID "NAPP 6825 163" *
SOURCE_IMAGE_DATE 1995 10 03 *
SOURCE_DEM_DATE 1973 01 01 *
AGENCY "WESTERN MAPPING CENTER (WMC)" *
PRODUCER "ANALYTICAL SURVEYS INC." *
PRODUCTION_SYSTEM "ORBIT OR_RECTIFY V.5.2" *
STANDARD_VERSION 1996 12 *
METADATA_DATE 1998 05 22 *
DATA_FILE_SIZE 49841340 *
BYTE_COUNT 6540 * * * * * * * * * * * * * * * * * * * * * * * * * * * * * * * * * * * * * * *
END_USGS_HEADER *
