BEGIN_USGS_DOQ_HEADER *
QUADRANGLE_NAME "TWENTYNINE PALMS" *
QUADRANT SW *
NORTH_LATITUDE 34 11 15.000 *
WEST_LONGITUDE -116 07 30.000 *
SOUTH_LATITUDE 34 07 30.000 *
EAST_LONGITUDE -116 03 45.000 *
PRODUCTION_DATE 1998 05 21 *
RASTER_ORDER LEFT_RIGHT/TOP_BOTTOM *
BAND_ORGANIZATION "SINGLE FILE" *
BAND_CONTENT BLACK&WHITE *
BITS_PER_PIXEL 8 *
SAMPLES_AND_LINES 6540 7620 *
HORIZONTAL_DATUM NAD83 *
HORIZONTAL_COORDINATE_SYSTEM UTM *
COORDINATE_ZONE 11 *
HORIZONTAL_UNITS METERS *
HORIZONTAL_RESOLUTION 1.000 *
SECONDARY_HORIZONTAL_DATUM NAD27 *
XY_ORIGIN 580230.000 3783660.000 *
SECONDARY_XY_ORIGIN 580309.104 3783465.357 *
NATION US *
STATE CA *
NW_QUAD_CORNER_XY 580627.546 3783291.879 *
NE_QUAD_CORNER_XY 586386.841 3783343.070 *
SE_QUAD_CORNER_XY 586450.514 3776412.672 *
SW_QUAD_CORNER_XY 580686.973 3776361.525 *
SECONDARY_NW_QUAD_XY 580629.371 3783096.837 *
SECONDARY_NE_QUAD_XY 586388.796 3783148.029 *
SECONDARY_SE_QUAD_XY 586452.468 3776217.830 *
SECONDARY_SW_QUAD_XY 580688.797 3776166.682 *
RMSE_XY 0.996 *
IMAGE_SOURCE "BLACK AND WHITE FILM" *
SOURCE_IMAGE_ID "NAPP 6806 23" *
SOURCE_IMAGE_DATE 1994 05 22 *
SOURCE_DEM_DATE 1973 01 01 *
AGENCY "WESTERN MAPPING CENTER (WMC)" *
PRODUCER "ANALYTICAL SURVEYS INC." *
PRODUCTION_SYSTEM "ORBIT OR_RECTIFY V.5.2" *
STANDARD_VERSION 1996 12 *
METADATA_DATE 1998 05 22 *
DATA_FILE_SIZE 49841340 *
BYTE_COUNT 6540 * * * * * * * * * * * * * * * * * * * * * * * * * * * * * * * * * * * * * * *
END_USGS_HEADER *
