BEGIN_USGS_DOQ_HEADER *
QUADRANGLE_NAME "SUNFAIR" *
QUADRANT SW *
NORTH_LATITUDE 34 11 15.000 *
WEST_LONGITUDE -116 15 00.000 *
SOUTH_LATITUDE 34 07 30.000 *
EAST_LONGITUDE -116 11 15.000 *
PRODUCTION_DATE 1998 05 22 *
RASTER_ORDER LEFT_RIGHT/TOP_BOTTOM *
BAND_ORGANIZATION "SINGLE FILE" *
BAND_CONTENT BLACK&WHITE *
BITS_PER_PIXEL 8 *
SAMPLES_AND_LINES 6540 7620 *
HORIZONTAL_DATUM NAD83 *
HORIZONTAL_COORDINATE_SYSTEM UTM *
COORDINATE_ZONE 11 *
HORIZONTAL_UNITS METERS *
HORIZONTAL_RESOLUTION 1.000 *
SECONDARY_HORIZONTAL_DATUM NAD27 *
XY_ORIGIN 568710.000 3783570.000 *
SECONDARY_XY_ORIGIN 568789.265 3783375.109 *
NATION US *
STATE CA *
NW_QUAD_CORNER_XY 569109.060 3783200.091 *
NE_QUAD_CORNER_XY 574868.286 3783244.219 *
SE_QUAD_CORNER_XY 574923.468 3776313.907 *
SW_QUAD_CORNER_XY 569159.996 3776269.817 *
SECONDARY_NW_QUAD_XY 569110.624 3783005.047 *
SECONDARY_NE_QUAD_XY 574869.981 3783049.176 *
SECONDARY_SE_QUAD_XY 574925.161 3776119.063 *
SECONDARY_SW_QUAD_XY 569161.559 3776074.972 *
RMSE_XY 1.175 *
IMAGE_SOURCE "BLACK AND WHITE FILM" *
SOURCE_IMAGE_ID "NAPP 6825 209" *
SOURCE_IMAGE_DATE 1995 10 03 *
SOURCE_DEM_DATE 1972 01 01 *
AGENCY "WESTERN MAPPING CENTER (WMC)" *
PRODUCER "ANALYTICAL SURVEYS INC." *
PRODUCTION_SYSTEM "ORBIT OR_RECTIFY V.5.2" *
STANDARD_VERSION 1996 12 *
METADATA_DATE 1998 05 22 *
DATA_FILE_SIZE 49841340 *
BYTE_COUNT 6540 * * * * * * * * * * * * * * * * * * * * * * * * * * * * * * * * * * * * * * *
END_USGS_HEADER *
