BEGIN_USGS_DOQ_HEADER *
QUADRANGLE_NAME "YUCCA VALLEY NORTH" *
QUADRANT NW *
NORTH_LATITUDE 34 15 00.000 *
WEST_LONGITUDE -116 30 00.000 *
SOUTH_LATITUDE 34 11 15.000 *
EAST_LONGITUDE -116 26 15.000 *
PRODUCTION_DATE 1998 05 22 *
RASTER_ORDER LEFT_RIGHT/TOP_BOTTOM *
BAND_ORGANIZATION "SINGLE FILE" *
BAND_CONTENT BLACK&WHITE *
BITS_PER_PIXEL 8 *
SAMPLES_AND_LINES 6510 7590 *
HORIZONTAL_DATUM NAD83 *
HORIZONTAL_COORDINATE_SYSTEM UTM *
COORDINATE_ZONE 11 *
HORIZONTAL_UNITS METERS *
HORIZONTAL_RESOLUTION 1.000 *
SECONDARY_HORIZONTAL_DATUM NAD27 *
XY_ORIGIN 545640.000 3790320.000 *
SECONDARY_XY_ORIGIN 545719.410 3790124.620 *
NATION US *
STATE CA *
NW_QUAD_CORNER_XY 546038.424 3789989.105 *
NE_QUAD_CORNER_XY 551793.292 3790019.137 *
SE_QUAD_CORNER_XY 551831.554 3783088.890 *
SW_QUAD_CORNER_XY 546072.435 3783058.884 *
SECONDARY_NW_QUAD_XY 546039.468 3789793.859 *
SECONDARY_NE_QUAD_XY 551794.466 3789823.892 *
SECONDARY_SE_QUAD_XY 551832.728 3782893.843 *
SECONDARY_SW_QUAD_XY 546073.478 3782863.837 *
RMSE_XY 1.362 *
IMAGE_SOURCE "BLACK AND WHITE FILM" *
SOURCE_IMAGE_ID "NAPP 6809 4" *
SOURCE_IMAGE_DATE 1994 05 28 *
SOURCE_DEM_DATE 1994 01 01 *
AGENCY "WESTERN MAPPING CENTER (WMC)" *
PRODUCER "ANALYTICAL SURVEYS INC." *
PRODUCTION_SYSTEM "ORBIT OR_RECTIFY V.5.2" *
STANDARD_VERSION 1996 12 *
METADATA_DATE 1998 05 22 *
DATA_FILE_SIZE 49417410 *
BYTE_COUNT 6510 * * * * * * * * * * * * * * * * * * * * * * * * * * * * * * * * * * * * * * *
END_USGS_HEADER *
