BEGIN_USGS_DOQ_HEADER *
QUADRANGLE_NAME "YUCCA VALLEY NORTH" *
QUADRANT SE *
NORTH_LATITUDE 34 11 15.000 *
WEST_LONGITUDE -116 26 15.000 *
SOUTH_LATITUDE 34 07 30.000 *
EAST_LONGITUDE -116 22 30.000 *
PRODUCTION_DATE 1998 05 22 *
RASTER_ORDER LEFT_RIGHT/TOP_BOTTOM *
BAND_ORGANIZATION "SINGLE FILE" *
BAND_CONTENT BLACK&WHITE *
BITS_PER_PIXEL 8 *
SAMPLES_AND_LINES 6510 7620 *
HORIZONTAL_DATUM NAD83 *
HORIZONTAL_COORDINATE_SYSTEM UTM *
COORDINATE_ZONE 11 *
HORIZONTAL_UNITS METERS *
HORIZONTAL_RESOLUTION 1.000 *
SECONDARY_HORIZONTAL_DATUM NAD27 *
XY_ORIGIN 551430.000 3783450.000 *
SECONDARY_XY_ORIGIN 551509.302 3783254.755 *
NATION US *
STATE CA *
NW_QUAD_CORNER_XY 551831.554 3783088.890 *
NE_QUAD_CORNER_XY 557590.697 3783122.426 *
SE_QUAD_CORNER_XY 557633.142 3776192.220 *
SW_QUAD_CORNER_XY 551869.755 3776158.713 *
SECONDARY_NW_QUAD_XY 551832.728 3782893.843 *
SECONDARY_NE_QUAD_XY 557592.000 3782927.380 *
SECONDARY_SE_QUAD_XY 557634.445 3775997.373 *
SECONDARY_SW_QUAD_XY 551870.927 3775963.865 *
RMSE_XY 0.874 *
IMAGE_SOURCE "BLACK AND WHITE FILM" *
SOURCE_IMAGE_ID "NAPP 6826 84" *
SOURCE_IMAGE_DATE 1995 10 04 *
SOURCE_DEM_DATE 1994 01 01 *
AGENCY "WESTERN MAPPING CENTER (WMC)" *
PRODUCER "ANALYTICAL SURVEYS INC." *
PRODUCTION_SYSTEM "ORBIT OR_RECTIFY V.5.2" *
STANDARD_VERSION 1996 12 *
METADATA_DATE 1998 05 22 *
DATA_FILE_SIZE 49612710 *
BYTE_COUNT 6510 * * * * * * * * * * * * * * * * * * * * * * * * * * * * * * * * * * * * * * *
END_USGS_HEADER *
