BEGIN_USGS_DOQ_HEADER *
QUADRANGLE_NAME "RIMROCK" *
QUADRANT NW *
NORTH_LATITUDE 34 15 00.000 *
WEST_LONGITUDE -116 37 30.000 *
SOUTH_LATITUDE 34 11 15.000 *
EAST_LONGITUDE -116 33 45.000 *
PRODUCTION_DATE 1998 05 27 *
RASTER_ORDER LEFT_RIGHT/TOP_BOTTOM *
BAND_ORGANIZATION "SINGLE FILE" *
BAND_CONTENT BLACK&WHITE *
BITS_PER_PIXEL 8 *
SAMPLES_AND_LINES 6480 7590 *
HORIZONTAL_DATUM NAD83 *
HORIZONTAL_COORDINATE_SYSTEM UTM *
COORDINATE_ZONE 11 *
HORIZONTAL_UNITS METERS *
HORIZONTAL_RESOLUTION 1.000 *
SECONDARY_HORIZONTAL_DATUM NAD27 *
XY_ORIGIN 534150.000 3790290.000 *
SECONDARY_XY_ORIGIN 534229.520 3790094.338 *
NATION US *
STATE CA *
NW_QUAD_CORNER_XY 534528.747 3789939.641 *
NE_QUAD_CORNER_XY 540283.577 3789962.606 *
SE_QUAD_CORNER_XY 540313.336 3783032.408 *
SW_QUAD_CORNER_XY 534554.255 3783009.463 *
SECONDARY_NW_QUAD_XY 534529.530 3789744.395 *
SECONDARY_NE_QUAD_XY 540284.490 3789767.360 *
SECONDARY_SE_QUAD_XY 540314.249 3782837.360 *
SECONDARY_SW_QUAD_XY 534555.037 3782814.415 *
RMSE_XY 2.239 *
IMAGE_SOURCE "BLACK AND WHITE FILM" *
SOURCE_IMAGE_ID "NAPP 6863 241" *
SOURCE_IMAGE_DATE 1994 05 31 *
SOURCE_DEM_DATE 1994 01 01 *
AGENCY "WESTERN MAPPING CENTER (WMC)" *
PRODUCER "ANALYTICAL SURVEYS INC." *
PRODUCTION_SYSTEM "ORBIT OR_RECTIFY V.5.2" *
STANDARD_VERSION 1996 12 *
METADATA_DATE 1998 05 27 *
DATA_FILE_SIZE 49189680 *
BYTE_COUNT 6480 * * * * * * * * * * * * * * * * * * * * * * * * * * * * * * * * * * * * * *
END_USGS_HEADER *
