BEGIN_USGS_DOQ_HEADER *
QUADRANGLE_NAME "RIMROCK" *
QUADRANT SE *
NORTH_LATITUDE 34 11 15.000 *
WEST_LONGITUDE -116 33 45.000 *
SOUTH_LATITUDE 34 07 30.000 *
EAST_LONGITUDE -116 30 00.000 *
PRODUCTION_DATE 1998 05 27 *
RASTER_ORDER LEFT_RIGHT/TOP_BOTTOM *
BAND_ORGANIZATION "SINGLE FILE" *
BAND_CONTENT BLACK&WHITE *
BITS_PER_PIXEL 8 *
SAMPLES_AND_LINES 6510 7560 *
HORIZONTAL_DATUM NAD83 *
HORIZONTAL_COORDINATE_SYSTEM UTM *
COORDINATE_ZONE 11 *
HORIZONTAL_UNITS METERS *
HORIZONTAL_RESOLUTION 1.000 *
SECONDARY_HORIZONTAL_DATUM NAD27 *
XY_ORIGIN 539910.000 3783360.000 *
SECONDARY_XY_ORIGIN 539989.345 3783164.508 *
NATION US *
STATE CA *
NW_QUAD_CORNER_XY 540313.336 3783032.408 *
NE_QUAD_CORNER_XY 546072.435 3783058.884 *
SE_QUAD_CORNER_XY 546106.391 3776128.733 *
SW_QUAD_CORNER_XY 540343.047 3776102.280 *
SECONDARY_NW_QUAD_XY 540314.249 3782837.360 *
SECONDARY_NE_QUAD_XY 546073.478 3782863.837 *
SECONDARY_SE_QUAD_XY 546107.433 3775933.884 *
SECONDARY_SW_QUAD_XY 540343.959 3775907.431 *
RMSE_XY 1.508 *
IMAGE_SOURCE "BLACK AND WHITE FILM" *
SOURCE_IMAGE_ID "NAPP 6863 204" *
SOURCE_IMAGE_DATE 1994 05 31 *
SOURCE_IMAGE_ID "NAPP 6863 203" *
SOURCE_IMAGE_DATE 1994 05 31 *
SOURCE_IMAGE_ID "NAPP 6863 205" *
SOURCE_IMAGE_DATE 1994 05 31 *
SOURCE_DEM_DATE 1994 01 01 *
AGENCY "WESTERN MAPPING CENTER (WMC)" *
PRODUCER "ANALYTICAL SURVEYS INC." *
PRODUCTION_SYSTEM "ORBIT OR_RECTIFY V.5.2" *
STANDARD_VERSION 1996 12 *
METADATA_DATE 1998 05 27 *
DATA_FILE_SIZE 49222110 *
BYTE_COUNT 6510 * * * * * * * * * * * * * * * * * * * * * * * * * * * * * * * * * * *
END_USGS_HEADER *
