BEGIN_USGS_DOQ_HEADER *
QUADRANGLE_NAME "ONYX PEAK" *
QUADRANT NE *
NORTH_LATITUDE 34 15 00.000 *
WEST_LONGITUDE -116 41 15.000 *
SOUTH_LATITUDE 34 11 15.000 *
EAST_LONGITUDE -116 37 30.000 *
PRODUCTION_DATE 1998 05 27 *
RASTER_ORDER LEFT_RIGHT/TOP_BOTTOM *
BAND_ORGANIZATION "SINGLE FILE" *
BAND_CONTENT BLACK&WHITE *
BITS_PER_PIXEL 8 *
SAMPLES_AND_LINES 6480 7590 *
HORIZONTAL_DATUM NAD83 *
HORIZONTAL_COORDINATE_SYSTEM UTM *
COORDINATE_ZONE 11 *
HORIZONTAL_UNITS METERS *
HORIZONTAL_RESOLUTION 1.000 *
SECONDARY_HORIZONTAL_DATUM NAD27 *
XY_ORIGIN 528390.000 3790260.000 *
SECONDARY_XY_ORIGIN 528469.575 3790064.195 *
NATION US *
STATE CA *
NW_QUAD_CORNER_XY 528773.933 3789920.210 *
NE_QUAD_CORNER_XY 534528.747 3789939.641 *
SE_QUAD_CORNER_XY 534554.255 3783009.463 *
SW_QUAD_CORNER_XY 528795.189 3782990.048 *
SECONDARY_NW_QUAD_XY 528774.585 3789724.963 *
SECONDARY_NE_QUAD_XY 534529.530 3789744.395 *
SECONDARY_SE_QUAD_XY 534555.037 3782814.415 *
SECONDARY_SW_QUAD_XY 528795.841 3782794.999 *
RMSE_XY 1.962 *
IMAGE_SOURCE "BLACK AND WHITE FILM" *
SOURCE_IMAGE_ID "NAPP 6874 151" *
SOURCE_IMAGE_DATE 1995 10 02 *
SOURCE_IMAGE_ID "NAPP 6874 160" *
SOURCE_IMAGE_DATE 1995 10 02 *
SOURCE_DEM_DATE 1985 01 01 *
AGENCY "WESTERN MAPPING CENTER (WMC)" *
PRODUCER "ANALYTICAL SURVEYS INC." *
PRODUCTION_SYSTEM "ORBIT OR_RECTIFY V.5.2" *
STANDARD_VERSION 1996 12 *
METADATA_DATE 1998 05 27 *
DATA_FILE_SIZE 49189680 *
BYTE_COUNT 6480 * * * * * * * * * * * * * * * * * * * * * * * * * * * * * * * * * * * *
END_USGS_HEADER *
