BEGIN_USGS_DOQ_HEADER *
QUADRANGLE_NAME "MOONRIDGE" *
QUADRANT NE *
NORTH_LATITUDE 34 15 00.000 *
WEST_LONGITUDE -116 48 45.000 *
SOUTH_LATITUDE 34 11 15.000 *
EAST_LONGITUDE -116 45 00.000 *
PRODUCTION_DATE 1998 10 06 *
RASTER_ORDER LEFT_RIGHT/TOP_BOTTOM *
BAND_ORGANIZATION "SINGLE FILE" *
BAND_CONTENT BLACK&WHITE *
BITS_PER_PIXEL 8 *
SAMPLES_AND_LINES 6480 7590 *
HORIZONTAL_DATUM NAD83 *
HORIZONTAL_COORDINATE_SYSTEM UTM *
COORDINATE_ZONE 11 *
HORIZONTAL_UNITS METERS *
HORIZONTAL_RESOLUTION 1.000 *
SECONDARY_HORIZONTAL_DATUM NAD27 *
XY_ORIGIN 516870.000 3790230.000 *
SECONDARY_XY_ORIGIN 516949.764 3790034.031 *
NATION US *
STATE CA *
NW_QUAD_CORNER_XY 517264.340 3789891.945 *
NE_QUAD_CORNER_XY 523019.131 3789904.311 *
SE_QUAD_CORNER_XY 523036.136 3782974.163 *
SW_QUAD_CORNER_XY 517277.093 3782961.808 *
SECONDARY_NW_QUAD_XY 517264.731 3789696.698 *
SECONDARY_NE_QUAD_XY 523019.653 3789709.063 *
SECONDARY_SE_QUAD_XY 523036.657 3782779.114 *
SECONDARY_SW_QUAD_XY 517277.484 3782766.759 *
RMSE_XY 2.156 *
IMAGE_SOURCE "BLACK AND WHITE FILM" *
SOURCE_IMAGE_ID "NAPP 6874 44" *
SOURCE_IMAGE_DATE 1995 10 02 *
SOURCE_IMAGE_ID "NAPP 6874 42" *
SOURCE_IMAGE_DATE 1995 10 02 *
SOURCE_DEM_DATE 1969 01 01 *
AGENCY "WESTERN MAPPING CENTER (WMC)" *
PRODUCER "ANALYTICAL SURVEYS INC." *
PRODUCTION_SYSTEM "ORBIT OR_RECTIFY V.5.2" *
STANDARD_VERSION 1996 12 *
METADATA_DATE 1998 11 10 *
DATA_FILE_SIZE 49189680 *
BYTE_COUNT 6480 * * * * * * * * * * * * * * * * * * * * * * * * * * * * * * * * * * * *
END_USGS_HEADER *
