BEGIN_USGS_DOQ_HEADER *
QUADRANGLE_NAME "MOONRIDGE" *
QUADRANT SW *
NORTH_LATITUDE 34 11 15.000 *
WEST_LONGITUDE -116 52 30.000 *
SOUTH_LATITUDE 34 07 30.000 *
EAST_LONGITUDE -116 48 45.000 *
PRODUCTION_DATE 1998 10 06 *
RASTER_ORDER LEFT_RIGHT/TOP_BOTTOM *
BAND_ORGANIZATION "SINGLE FILE" *
BAND_CONTENT BLACK&WHITE *
BITS_PER_PIXEL 8 *
SAMPLES_AND_LINES 6480 7560 *
HORIZONTAL_DATUM NAD83 *
HORIZONTAL_COORDINATE_SYSTEM UTM *
COORDINATE_ZONE 11 *
HORIZONTAL_UNITS METERS *
HORIZONTAL_RESOLUTION 1.000 *
SECONDARY_HORIZONTAL_DATUM NAD27 *
XY_ORIGIN 511110.000 3783270.000 *
SECONDARY_XY_ORIGIN 511189.713 3783074.034 *
NATION US *
STATE CA *
NW_QUAD_CORNER_XY 511518.058 3782952.983 *
NE_QUAD_CORNER_XY 517277.093 3782961.808 *
SE_QUAD_CORNER_XY 517289.826 3776031.742 *
SW_QUAD_CORNER_XY 511526.546 3776022.925 *
SECONDARY_NW_QUAD_XY 511518.319 3782757.934 *
SECONDARY_NE_QUAD_XY 517277.484 3782766.759 *
SECONDARY_SE_QUAD_XY 517290.217 3775836.891 *
SECONDARY_SW_QUAD_XY 511526.807 3775828.074 *
RMSE_XY 1.536 *
IMAGE_SOURCE "BLACK AND WHITE FILM" *
SOURCE_IMAGE_ID "NAPP 6874 55" *
SOURCE_IMAGE_DATE 1995 10 02 *
SOURCE_IMAGE_ID "NAPP 6874 71" *
SOURCE_IMAGE_DATE 1995 10 02 *
SOURCE_IMAGE_ID "NAPP 6874 42" *
SOURCE_IMAGE_DATE 1995 10 02 *
SOURCE_IMAGE_ID "NAPP 6874 53" *
SOURCE_IMAGE_DATE 1995 10 02 *
SOURCE_IMAGE_ID "NAPP 6874 57" *
SOURCE_IMAGE_DATE 1995 10 02 *
SOURCE_DEM_DATE 1969 01 01 *
AGENCY "WESTERN MAPPING CENTER (WMC)" *
PRODUCER "ANALYTICAL SURVEYS INC." *
PRODUCTION_SYSTEM "ORBIT OR_RECTIFY V.5.2" *
STANDARD_VERSION 1996 12 *
METADATA_DATE 1998 11 10 *
DATA_FILE_SIZE 48995280 *
BYTE_COUNT 6480 * * * * * * * * * * * * * * * * * * * * * * * * * * * * * *
END_USGS_HEADER *
