BEGIN_USGS_DOQ_HEADER *
QUADRANGLE_NAME "BIG BEAR LAKE" *
QUADRANT NE *
NORTH_LATITUDE 34 15 00.000 *
WEST_LONGITUDE -116 56 15.000 *
SOUTH_LATITUDE 34 11 15.000 *
EAST_LONGITUDE -116 52 30.000 *
PRODUCTION_DATE 1998 10 06 *
RASTER_ORDER LEFT_RIGHT/TOP_BOTTOM *
BAND_ORGANIZATION "SINGLE FILE" *
BAND_CONTENT BLACK&WHITE *
BITS_PER_PIXEL 8 *
SAMPLES_AND_LINES 6480 7560 *
HORIZONTAL_DATUM NAD83 *
HORIZONTAL_COORDINATE_SYSTEM UTM *
COORDINATE_ZONE 11 *
HORIZONTAL_UNITS METERS *
HORIZONTAL_RESOLUTION 1.000 *
SECONDARY_HORIZONTAL_DATUM NAD27 *
XY_ORIGIN 505350.000 3790200.000 *
SECONDARY_XY_ORIGIN 505430.004 3790003.994 *
NATION US *
STATE CA *
NW_QUAD_CORNER_XY 505754.776 3789877.813 *
NE_QUAD_CORNER_XY 511509.555 3789883.113 *
SE_QUAD_CORNER_XY 511518.058 3782952.983 *
SW_QUAD_CORNER_XY 505759.028 3782947.688 *
SECONDARY_NW_QUAD_XY 505754.907 3789682.565 *
SECONDARY_NE_QUAD_XY 511509.816 3789687.865 *
SECONDARY_SE_QUAD_XY 511518.319 3782757.934 *
SECONDARY_SW_QUAD_XY 505759.158 3782752.639 *
RMSE_XY 3.072 *
IMAGE_SOURCE "BLACK AND WHITE FILM" *
SOURCE_IMAGE_ID "NAPP 6874 69" *
SOURCE_IMAGE_DATE 1995 10 02 *
SOURCE_DEM_DATE 1988 01 01 *
AGENCY "WESTERN MAPPING CENTER (WMC)" *
PRODUCER "ANALYTICAL SURVEYS INC." *
PRODUCTION_SYSTEM "ORBIT OR_RECTIFY V.5.2" *
STANDARD_VERSION 1996 12 *
METADATA_DATE 1998 10 08 *
DATA_FILE_SIZE 48995280 *
BYTE_COUNT 6480 * * * * * * * * * * * * * * * * * * * * * * * * * * * * * * * * * * * * * *
END_USGS_HEADER *
