BEGIN_USGS_DOQ_HEADER *
QUADRANGLE_NAME "BIG BEAR LAKE" *
QUADRANT NW *
NORTH_LATITUDE 34 15 00.000 *
WEST_LONGITUDE -117 00 00.000 *
SOUTH_LATITUDE 34 11 15.000 *
EAST_LONGITUDE -116 56 15.000 *
PRODUCTION_DATE 1998 10 06 *
RASTER_ORDER LEFT_RIGHT/TOP_BOTTOM *
BAND_ORGANIZATION "SINGLE FILE" *
BAND_CONTENT BLACK&WHITE *
BITS_PER_PIXEL 8 *
SAMPLES_AND_LINES 6480 7560 *
HORIZONTAL_DATUM NAD83 *
HORIZONTAL_COORDINATE_SYSTEM UTM *
COORDINATE_ZONE 11 *
HORIZONTAL_UNITS METERS *
HORIZONTAL_RESOLUTION 1.000 *
SECONDARY_HORIZONTAL_DATUM NAD27 *
XY_ORIGIN 499590.000 3790200.000 *
SECONDARY_XY_ORIGIN 499670.124 3790003.975 *
NATION US *
STATE CA *
NW_QUAD_CORNER_XY 500000.000 3789876.047 *
NE_QUAD_CORNER_XY 505754.776 3789877.813 *
SE_QUAD_CORNER_XY 505759.028 3782947.688 *
SW_QUAD_CORNER_XY 500000.000 3782945.923 *
SECONDARY_NW_QUAD_XY 500000.000 3789680.799 *
SECONDARY_NE_QUAD_XY 505754.907 3789682.565 *
SECONDARY_SE_QUAD_XY 505759.158 3782752.639 *
SECONDARY_SW_QUAD_XY 500000.000 3782750.874 *
RMSE_XY 4.838 *
IMAGE_SOURCE "BLACK AND WHITE FILM" *
SOURCE_IMAGE_ID "NAPP 6874 117" *
SOURCE_IMAGE_DATE 1995 10 02 *
SOURCE_IMAGE_ID "NAPP 6874 116" *
SOURCE_IMAGE_DATE 1995 10 02 *
SOURCE_IMAGE_ID "NAPP 6874 105" *
SOURCE_IMAGE_DATE 1995 10 02 *
SOURCE_IMAGE_ID "NAPP 6874 115" *
SOURCE_IMAGE_DATE 1995 10 02 *
SOURCE_IMAGE_ID "NAPP 6874 69" *
SOURCE_IMAGE_DATE 1995 10 02 *
SOURCE_DEM_DATE 1988 01 01 *
AGENCY "WESTERN MAPPING CENTER (WMC)" *
PRODUCER "ANALYTICAL SURVEYS INC." *
PRODUCTION_SYSTEM "ORBIT OR_RECTIFY V.5.2" *
STANDARD_VERSION 1996 12 *
METADATA_DATE 1998 10 08 *
DATA_FILE_SIZE 48995280 *
BYTE_COUNT 6480 * * * * * * * * * * * * * * * * * * * * * * * * * * * * * *
END_USGS_HEADER *
