BEGIN_USGS_DOQ_HEADER *
QUADRANGLE_NAME "DEADMAN LAKE SE" *
QUADRANT SW *
NORTH_LATITUDE 34 18 45.000 *
WEST_LONGITUDE -116 07 30.000 *
SOUTH_LATITUDE 34 15 00.000 *
EAST_LONGITUDE -116 03 45.000 *
PRODUCTION_DATE 1998 05 20 *
RASTER_ORDER LEFT_RIGHT/TOP_BOTTOM *
BAND_ORGANIZATION "SINGLE FILE" *
BAND_CONTENT BLACK&WHITE *
BITS_PER_PIXEL 8 *
SAMPLES_AND_LINES 6540 7620 *
HORIZONTAL_DATUM NAD83 *
HORIZONTAL_COORDINATE_SYSTEM UTM *
COORDINATE_ZONE 11 *
HORIZONTAL_UNITS METERS *
HORIZONTAL_RESOLUTION 1.000 *
SECONDARY_HORIZONTAL_DATUM NAD27 *
XY_ORIGIN 580110.000 3797520.000 *
SECONDARY_XY_ORIGIN 580189.070 3797325.337 *
NATION US *
STATE CA *
NW_QUAD_CORNER_XY 580508.403 3797152.794 *
NE_QUAD_CORNER_XY 586259.185 3797204.073 *
SE_QUAD_CORNER_XY 586323.065 3790273.537 *
SW_QUAD_CORNER_XY 580568.022 3790222.302 *
SECONDARY_NW_QUAD_XY 580510.231 3796957.356 *
SECONDARY_NE_QUAD_XY 586261.144 3797008.637 *
SECONDARY_SE_QUAD_XY 586325.022 3790078.298 *
SECONDARY_SW_QUAD_XY 580569.849 3790027.062 *
RMSE_XY 2.271 *
IMAGE_SOURCE "BLACK AND WHITE FILM" *
SOURCE_IMAGE_ID "NAPP 6806 27" *
SOURCE_IMAGE_DATE 1994 05 22 *
SOURCE_DEM_DATE 1955 01 01 *
AGENCY "WESTERN MAPPING CENTER (WMC)" *
PRODUCER "ANALYTICAL SURVEYS INC." *
PRODUCTION_SYSTEM "ORBIT OR_RECTIFY V.5.2" *
STANDARD_VERSION 1996 12 *
METADATA_DATE 1998 05 28 *
DATA_FILE_SIZE 49841340 *
BYTE_COUNT 6540 * * * * * * * * * * * * * * * * * * * * * * * * * * * * * * * * * * * * * * *
END_USGS_HEADER *
