BEGIN_USGS_DOQ_HEADER *
QUADRANGLE_NAME "DEADMAN LAKE SW" *
QUADRANT NW *
NORTH_LATITUDE 34 22 30.000 *
WEST_LONGITUDE -116 15 00.000 *
SOUTH_LATITUDE 34 18 45.000 *
EAST_LONGITUDE -116 11 15.000 *
PRODUCTION_DATE 1998 05 19 *
RASTER_ORDER LEFT_RIGHT/TOP_BOTTOM *
BAND_ORGANIZATION "SINGLE FILE" *
BAND_CONTENT BLACK&WHITE *
BITS_PER_PIXEL 8 *
SAMPLES_AND_LINES 6510 7620 *
HORIZONTAL_DATUM NAD83 *
HORIZONTAL_COORDINATE_SYSTEM UTM *
COORDINATE_ZONE 11 *
HORIZONTAL_UNITS METERS *
HORIZONTAL_RESOLUTION 1.000 *
SECONDARY_HORIZONTAL_DATUM NAD27 *
XY_ORIGIN 568560.000 3804360.000 *
SECONDARY_XY_ORIGIN 568639.141 3804165.160 *
NATION US *
STATE CA *
NW_QUAD_CORNER_XY 568955.758 3803991.330 *
NE_QUAD_CORNER_XY 574702.206 3804035.572 *
SE_QUAD_CORNER_XY 574757.655 3797105.052 *
SW_QUAD_CORNER_XY 569006.941 3797060.847 *
SECONDARY_NW_QUAD_XY 568957.326 3803795.693 *
SECONDARY_NE_QUAD_XY 574703.905 3803839.937 *
SECONDARY_SE_QUAD_XY 574759.353 3796909.613 *
SECONDARY_SW_QUAD_XY 569008.508 3796865.407 *
RMSE_XY 0.903 *
IMAGE_SOURCE "BLACK AND WHITE FILM" *
SOURCE_IMAGE_ID "NAPP 6825 203" *
SOURCE_IMAGE_DATE 1995 10 03 *
SOURCE_DEM_DATE 1955 01 01 *
AGENCY "WESTERN MAPPING CENTER (WMC)" *
PRODUCER "ANALYTICAL SURVEYS INC." *
PRODUCTION_SYSTEM "ORBIT OR_RECTIFY V.5.2" *
STANDARD_VERSION 1996 12 *
METADATA_DATE 1998 05 19 *
DATA_FILE_SIZE 49612710 *
BYTE_COUNT 6510 * * * * * * * * * * * * * * * * * * * * * * * * * * * * * * * * * * * * * * *
END_USGS_HEADER *
